BEGIN:VCALENDAR
VERSION:2.0
PRODID:-//Dare to Write? - ECPv6.15.17//NONSGML v1.0//EN
CALSCALE:GREGORIAN
METHOD:PUBLISH
X-WR-CALNAME:Dare to Write?
X-ORIGINAL-URL:https://daretowrite.org
X-WR-CALDESC:Events for Dare to Write?
REFRESH-INTERVAL;VALUE=DURATION:PT1H
X-Robots-Tag:noindex
X-PUBLISHED-TTL:PT1H
BEGIN:VTIMEZONE
TZID:Europe/London
BEGIN:DAYLIGHT
TZOFFSETFROM:+0000
TZOFFSETTO:+0100
TZNAME:BST
DTSTART:20190331T010000
END:DAYLIGHT
BEGIN:STANDARD
TZOFFSETFROM:+0100
TZOFFSETTO:+0000
TZNAME:GMT
DTSTART:20191027T010000
END:STANDARD
BEGIN:DAYLIGHT
TZOFFSETFROM:+0000
TZOFFSETTO:+0100
TZNAME:BST
DTSTART:20200329T010000
END:DAYLIGHT
BEGIN:STANDARD
TZOFFSETFROM:+0100
TZOFFSETTO:+0000
TZNAME:GMT
DTSTART:20201025T010000
END:STANDARD
BEGIN:DAYLIGHT
TZOFFSETFROM:+0000
TZOFFSETTO:+0100
TZNAME:BST
DTSTART:20210328T010000
END:DAYLIGHT
BEGIN:STANDARD
TZOFFSETFROM:+0100
TZOFFSETTO:+0000
TZNAME:GMT
DTSTART:20211031T010000
END:STANDARD
END:VTIMEZONE
BEGIN:VEVENT
DTSTART;TZID=Europe/London:20200328T100000
DTEND;TZID=Europe/London:20200328T123000
DTSTAMP:20260422T112421
CREATED:20200305T154531Z
LAST-MODIFIED:20200305T154531Z
UID:10001356-1585389600-1585398600@daretowrite.org
SUMMARY:Two-Day Short Course: Funding for Writing Projects March 20
DESCRIPTION:This two half-day course will look at what types of writing projects might attract public and private funding and how to make a good application. It will focus on funding from Arts Council England through their Lottery Project Grants scheme and their Developing Your Creative Practice scheme.\nThe course will look at the qualities of a fundable project\, making a case for funding\, preparing a budget and how to complete key sections of applications forms.\nThere will be some tasks to be completed between the two sessions of the course.\nThis course is intended for writers at all stages of their careers\, including beginners. \n£40 – covers both courses
URL:https://daretowrite.org/event/two-day-short-course-funding-for-writing-projects-march-20/2020-03-28/
LOCATION:Writing West Midlands\, Unit 204\, The Custard Factory\, Gibb Street\, Birmingham\, West Midlands\, B9 4AA\, United Kingdom
CATEGORIES:Creative Club / Course/ Workshop
ORGANIZER;CN="Writing West Midlands":MAILTO:emma@writingwestmidlands.org
GEO:52.4750476;-1.8847335
X-APPLE-STRUCTURED-LOCATION;VALUE=URI;X-ADDRESS=Writing West Midlands Unit 204 The Custard Factory Gibb Street Birmingham West Midlands B9 4AA United Kingdom;X-APPLE-RADIUS=500;X-TITLE=Unit 204\, The Custard Factory\, Gibb Street:geo:-1.8847335,52.4750476
END:VEVENT
BEGIN:VEVENT
DTSTART;TZID=Europe/London:20200321T100000
DTEND;TZID=Europe/London:20200321T123000
DTSTAMP:20260422T112421
CREATED:20200305T154531Z
LAST-MODIFIED:20200305T154531Z
UID:10001355-1584784800-1584793800@daretowrite.org
SUMMARY:Two-Day Short Course: Funding for Writing Projects March 20
DESCRIPTION:This two half-day course will look at what types of writing projects might attract public and private funding and how to make a good application. It will focus on funding from Arts Council England through their Lottery Project Grants scheme and their Developing Your Creative Practice scheme.\nThe course will look at the qualities of a fundable project\, making a case for funding\, preparing a budget and how to complete key sections of applications forms.\nThere will be some tasks to be completed between the two sessions of the course.\nThis course is intended for writers at all stages of their careers\, including beginners. \n£40 – covers both courses
URL:https://daretowrite.org/event/two-day-short-course-funding-for-writing-projects-march-20/2020-03-21/
LOCATION:Writing West Midlands\, Unit 204\, The Custard Factory\, Gibb Street\, Birmingham\, West Midlands\, B9 4AA\, United Kingdom
CATEGORIES:Creative Club / Course/ Workshop
ORGANIZER;CN="Writing West Midlands":MAILTO:emma@writingwestmidlands.org
GEO:52.4750476;-1.8847335
X-APPLE-STRUCTURED-LOCATION;VALUE=URI;X-ADDRESS=Writing West Midlands Unit 204 The Custard Factory Gibb Street Birmingham West Midlands B9 4AA United Kingdom;X-APPLE-RADIUS=500;X-TITLE=Unit 204\, The Custard Factory\, Gibb Street:geo:-1.8847335,52.4750476
END:VEVENT
END:VCALENDAR