BEGIN:VCALENDAR
VERSION:2.0
PRODID:-//Dare to Write? - ECPv6.15.17//NONSGML v1.0//EN
CALSCALE:GREGORIAN
METHOD:PUBLISH
X-WR-CALNAME:Dare to Write?
X-ORIGINAL-URL:https://daretowrite.org
X-WR-CALDESC:Events for Dare to Write?
REFRESH-INTERVAL;VALUE=DURATION:PT1H
X-Robots-Tag:noindex
X-PUBLISHED-TTL:PT1H
BEGIN:VTIMEZONE
TZID:Europe/London
BEGIN:DAYLIGHT
TZOFFSETFROM:+0000
TZOFFSETTO:+0100
TZNAME:BST
DTSTART:20180325T010000
END:DAYLIGHT
BEGIN:STANDARD
TZOFFSETFROM:+0100
TZOFFSETTO:+0000
TZNAME:GMT
DTSTART:20181028T010000
END:STANDARD
BEGIN:DAYLIGHT
TZOFFSETFROM:+0000
TZOFFSETTO:+0100
TZNAME:BST
DTSTART:20190331T010000
END:DAYLIGHT
BEGIN:STANDARD
TZOFFSETFROM:+0100
TZOFFSETTO:+0000
TZNAME:GMT
DTSTART:20191027T010000
END:STANDARD
BEGIN:DAYLIGHT
TZOFFSETFROM:+0000
TZOFFSETTO:+0100
TZNAME:BST
DTSTART:20200329T010000
END:DAYLIGHT
BEGIN:STANDARD
TZOFFSETFROM:+0100
TZOFFSETTO:+0000
TZNAME:GMT
DTSTART:20201025T010000
END:STANDARD
END:VTIMEZONE
BEGIN:VEVENT
DTSTART;TZID=Europe/London:20190814T110000
DTEND;TZID=Europe/London:20190816T160000
DTSTAMP:20260422T101622
CREATED:20190808T151030Z
LAST-MODIFIED:20190808T151030Z
UID:10001032-1565780400-1565971200@daretowrite.org
SUMMARY:Northumberland Summer School: Make Some Noise
DESCRIPTION:Group Leader: Sarah Tarbit This year we are holding our first summer school at the fantastic Woodhorn Museum and Nature Reserve\, open to members of Cramlington and Amble Young Writers groups\, as well as everyone else who fancies trying writing. Come and experiment with sound! Together with guest writers Carmen Marcus and Kris Johnson we will create poetry and prose inspired by the natural surroundings and the industrial heritage of the unique site. Then\, we will work with a composer and poet\, Martin Heslop\, to create amazing audio recordings using sounds from the site.
URL:https://daretowrite.org/event/northumberland-summer-school-make-some-noise/
LOCATION:Woodhorn Museum\, Woodhorn Museum\, QEII Country Park\,\, Ashington\, NE63 9YF\, United Kingdom
CATEGORIES:Creative Club / Course/ Workshop
ORGANIZER;CN="New Writing North":MAILTO:office@newwritingnorth.com
GEO:55.189789;-1.5473463
X-APPLE-STRUCTURED-LOCATION;VALUE=URI;X-ADDRESS=Woodhorn Museum Woodhorn Museum QEII Country Park Ashington NE63 9YF United Kingdom;X-APPLE-RADIUS=500;X-TITLE=Woodhorn Museum\, QEII Country Park\,:geo:-1.5473463,55.189789
END:VEVENT
END:VCALENDAR