BEGIN:VCALENDAR
VERSION:2.0
PRODID:-//Dare to Write? - ECPv6.15.17//NONSGML v1.0//EN
CALSCALE:GREGORIAN
METHOD:PUBLISH
X-ORIGINAL-URL:https://daretowrite.org
X-WR-CALDESC:Events for Dare to Write?
REFRESH-INTERVAL;VALUE=DURATION:PT1H
X-Robots-Tag:noindex
X-PUBLISHED-TTL:PT1H
BEGIN:VTIMEZONE
TZID:Europe/London
BEGIN:DAYLIGHT
TZOFFSETFROM:+0000
TZOFFSETTO:+0100
TZNAME:BST
DTSTART:20180325T010000
END:DAYLIGHT
BEGIN:STANDARD
TZOFFSETFROM:+0100
TZOFFSETTO:+0000
TZNAME:GMT
DTSTART:20181028T010000
END:STANDARD
BEGIN:DAYLIGHT
TZOFFSETFROM:+0000
TZOFFSETTO:+0100
TZNAME:BST
DTSTART:20190331T010000
END:DAYLIGHT
BEGIN:STANDARD
TZOFFSETFROM:+0100
TZOFFSETTO:+0000
TZNAME:GMT
DTSTART:20191027T010000
END:STANDARD
BEGIN:DAYLIGHT
TZOFFSETFROM:+0000
TZOFFSETTO:+0100
TZNAME:BST
DTSTART:20200329T010000
END:DAYLIGHT
BEGIN:STANDARD
TZOFFSETFROM:+0100
TZOFFSETTO:+0000
TZNAME:GMT
DTSTART:20201025T010000
END:STANDARD
END:VTIMEZONE
BEGIN:VEVENT
DTSTART;TZID=Europe/London:20191021T093000
DTEND;TZID=Europe/London:20191021T163000
DTSTAMP:20260421T002254
CREATED:20190418T134010Z
LAST-MODIFIED:20190425T141610Z
UID:10000305-1571650200-1571675400@daretowrite.org
SUMMARY:Writing the Body | Yoga and Creative Writing Day Retreat
DESCRIPTION:**This day retreat is part of a set of three in 2019. All the dates are: 29 April\, 1 July and 21 October.** They take place in spring\, summer and autumn to help you pay attention to the seasons and plan regular times away from your everyday life. They are designed to work together so that you can attend all three\, but will also work well if you’d like to attend just one. \nReplenish and recharge with a blend of yoga and creative writing at Tilton House; a Sussex rural idyll close to Charleston Farmhouse. \nRelaxing yet inspiring and rejuvenating\, this unique combination of yoga and creative writing will tap into your creativity and help you connect with your body. With gentle yoga postures specially designed to bring awareness to your body\, you will notice the thoughts\, memories and emotions that unfold ready to be written.
URL:https://daretowrite.org/event/writing-the-body-yoga-and-creative-writing-day-retreat/2019-10-21/
LOCATION:East Sussex
CATEGORIES:Creative Club / Course/ Workshop
END:VEVENT
BEGIN:VEVENT
DTSTART;TZID=Europe/London:20190701T093000
DTEND;TZID=Europe/London:20190701T163000
DTSTAMP:20260421T002254
CREATED:20190418T134010Z
LAST-MODIFIED:20190425T141610Z
UID:10000304-1561973400-1561998600@daretowrite.org
SUMMARY:Writing the Body | Yoga and Creative Writing Day Retreat
DESCRIPTION:**This day retreat is part of a set of three in 2019. All the dates are: 29 April\, 1 July and 21 October.** They take place in spring\, summer and autumn to help you pay attention to the seasons and plan regular times away from your everyday life. They are designed to work together so that you can attend all three\, but will also work well if you’d like to attend just one. \nReplenish and recharge with a blend of yoga and creative writing at Tilton House; a Sussex rural idyll close to Charleston Farmhouse. \nRelaxing yet inspiring and rejuvenating\, this unique combination of yoga and creative writing will tap into your creativity and help you connect with your body. With gentle yoga postures specially designed to bring awareness to your body\, you will notice the thoughts\, memories and emotions that unfold ready to be written.
URL:https://daretowrite.org/event/writing-the-body-yoga-and-creative-writing-day-retreat/2019-07-01/
LOCATION:East Sussex
CATEGORIES:Creative Club / Course/ Workshop
END:VEVENT
BEGIN:VEVENT
DTSTART;TZID=Europe/London:20190429T093000
DTEND;TZID=Europe/London:20190429T163000
DTSTAMP:20260421T002254
CREATED:20190418T134010Z
LAST-MODIFIED:20190425T141610Z
UID:10000303-1556530200-1556555400@daretowrite.org
SUMMARY:Writing the Body | Yoga and Creative Writing Day Retreat
DESCRIPTION:**This day retreat is part of a set of three in 2019. All the dates are: 29 April\, 1 July and 21 October.** They take place in spring\, summer and autumn to help you pay attention to the seasons and plan regular times away from your everyday life. They are designed to work together so that you can attend all three\, but will also work well if you’d like to attend just one. \nReplenish and recharge with a blend of yoga and creative writing at Tilton House; a Sussex rural idyll close to Charleston Farmhouse. \nRelaxing yet inspiring and rejuvenating\, this unique combination of yoga and creative writing will tap into your creativity and help you connect with your body. With gentle yoga postures specially designed to bring awareness to your body\, you will notice the thoughts\, memories and emotions that unfold ready to be written.
URL:https://daretowrite.org/event/writing-the-body-yoga-and-creative-writing-day-retreat/2019-04-29/
LOCATION:East Sussex
CATEGORIES:Creative Club / Course/ Workshop
END:VEVENT
END:VCALENDAR