BEGIN:VCALENDAR
VERSION:2.0
PRODID:-//Dare to Write? - ECPv6.15.17//NONSGML v1.0//EN
CALSCALE:GREGORIAN
METHOD:PUBLISH
X-WR-CALNAME:Dare to Write?
X-ORIGINAL-URL:https://daretowrite.org
X-WR-CALDESC:Events for Dare to Write?
REFRESH-INTERVAL;VALUE=DURATION:PT1H
X-Robots-Tag:noindex
X-PUBLISHED-TTL:PT1H
BEGIN:VTIMEZONE
TZID:Europe/London
BEGIN:DAYLIGHT
TZOFFSETFROM:+0000
TZOFFSETTO:+0100
TZNAME:BST
DTSTART:20180325T010000
END:DAYLIGHT
BEGIN:STANDARD
TZOFFSETFROM:+0100
TZOFFSETTO:+0000
TZNAME:GMT
DTSTART:20181028T010000
END:STANDARD
BEGIN:DAYLIGHT
TZOFFSETFROM:+0000
TZOFFSETTO:+0100
TZNAME:BST
DTSTART:20190331T010000
END:DAYLIGHT
BEGIN:STANDARD
TZOFFSETFROM:+0100
TZOFFSETTO:+0000
TZNAME:GMT
DTSTART:20191027T010000
END:STANDARD
BEGIN:DAYLIGHT
TZOFFSETFROM:+0000
TZOFFSETTO:+0100
TZNAME:BST
DTSTART:20200329T010000
END:DAYLIGHT
BEGIN:STANDARD
TZOFFSETFROM:+0100
TZOFFSETTO:+0000
TZNAME:GMT
DTSTART:20201025T010000
END:STANDARD
BEGIN:DAYLIGHT
TZOFFSETFROM:+0000
TZOFFSETTO:+0100
TZNAME:BST
DTSTART:20210328T010000
END:DAYLIGHT
BEGIN:STANDARD
TZOFFSETFROM:+0100
TZOFFSETTO:+0000
TZNAME:GMT
DTSTART:20211031T010000
END:STANDARD
END:VTIMEZONE
BEGIN:VEVENT
DTSTART;TZID=Europe/London:20200307T080000
DTEND;TZID=Europe/London:20200307T170000
DTSTAMP:20260421T002426
CREATED:20200220T150442Z
LAST-MODIFIED:20200227T110005Z
UID:10001268-1583568000-1583600400@daretowrite.org
SUMMARY:Monthly Story Workshop
DESCRIPTION:We will generate story ideas\, explore characters and story worlds\, sharpen dialogue and look at elements of story structure. You will learn through a range of writing exercises and prompts\, writing together\, sharing what you write (if you want to) and listening to each other. There will be no feedback on what you choose to share. Beginners are welcome. Whether you want to write stories in fiction\, creative non-fiction\, journals or blog posts\, this workshop will help you discover and trust your own unique voice.
URL:https://daretowrite.org/event/monthly-story-workshop/
LOCATION:The Bookshop\, The Bookshop\, 22 High Street\, East Grinstead\, RH19 3AW
CATEGORIES:Creative Club / Course/ Workshop
ORGANIZER;CN="Honeyleaf Writing":MAILTO:hello@honeyleafwriting.com
GEO:51.1238174;-0.0072036
X-APPLE-STRUCTURED-LOCATION;VALUE=URI;X-ADDRESS=The Bookshop The Bookshop 22 High Street East Grinstead RH19 3AW;X-APPLE-RADIUS=500;X-TITLE=The Bookshop\, 22 High Street:geo:-0.0072036,51.1238174
END:VEVENT
BEGIN:VEVENT
DTSTART;TZID=Europe/London:20191207T100000
DTEND;TZID=Europe/London:20191207T120000
DTSTAMP:20260421T002426
CREATED:20190808T110733Z
LAST-MODIFIED:20190808T110733Z
UID:10000958-1575712800-1575720000@daretowrite.org
SUMMARY:Monthly Drop-In Story Workshop
DESCRIPTION:HoneyLeaf creative writing workshops are full of short\, inspiring writing exercises with plenty of encouragement. Whether you are new to writing\, returning after a break\, or a regular\, these workshops will get your ideas and words flowing onto the page. We will write together and share what we have written (if you want to). They are for people who want to write stories\, poems\, journals\, blog posts or simply have something to say.
URL:https://daretowrite.org/event/monthly-drop-in-story-workshop/2019-12-07/
LOCATION:The Bookshop\, The Bookshop\, 22 High Street\, East Grinstead\, RH19 3AW
CATEGORIES:Creative Club / Course/ Workshop
ORGANIZER;CN="Honeyleaf Writing":MAILTO:hello@honeyleafwriting.com
GEO:51.1238174;-0.0072036
X-APPLE-STRUCTURED-LOCATION;VALUE=URI;X-ADDRESS=The Bookshop The Bookshop 22 High Street East Grinstead RH19 3AW;X-APPLE-RADIUS=500;X-TITLE=The Bookshop\, 22 High Street:geo:-0.0072036,51.1238174
END:VEVENT
BEGIN:VEVENT
DTSTART;TZID=Europe/London:20191130T100000
DTEND;TZID=Europe/London:20191130T120000
DTSTAMP:20260421T002426
CREATED:20190808T110434Z
LAST-MODIFIED:20190808T110434Z
UID:10000943-1575108000-1575115200@daretowrite.org
SUMMARY:Monthly Drop-In Poetry Workshop
DESCRIPTION:HoneyLeaf creative writing workshops are full of short\, inspiring writing exercises with plenty of encouragement. Whether you are new to writing\, returning after a break\, or a regular\, these workshops will get your ideas and words flowing onto the page. We will write together and share what we have written (if you want to). They are for people who want to write stories\, poems\, journals\, blog posts or simply have something to say.
URL:https://daretowrite.org/event/monthly-drop-in-poetry-workshop/2019-11-30/
LOCATION:The Bookshop\, The Bookshop\, 22 High Street\, East Grinstead\, RH19 3AW
CATEGORIES:Creative Club / Course/ Workshop
ORGANIZER;CN="Honeyleaf Writing":MAILTO:hello@honeyleafwriting.com
GEO:51.1238174;-0.0072036
X-APPLE-STRUCTURED-LOCATION;VALUE=URI;X-ADDRESS=The Bookshop The Bookshop 22 High Street East Grinstead RH19 3AW;X-APPLE-RADIUS=500;X-TITLE=The Bookshop\, 22 High Street:geo:-0.0072036,51.1238174
END:VEVENT
BEGIN:VEVENT
DTSTART;TZID=Europe/London:20191019T100000
DTEND;TZID=Europe/London:20191019T120000
DTSTAMP:20260421T002426
CREATED:20190808T110434Z
LAST-MODIFIED:20190808T110434Z
UID:10000942-1571479200-1571486400@daretowrite.org
SUMMARY:Monthly Drop-In Poetry Workshop
DESCRIPTION:HoneyLeaf creative writing workshops are full of short\, inspiring writing exercises with plenty of encouragement. Whether you are new to writing\, returning after a break\, or a regular\, these workshops will get your ideas and words flowing onto the page. We will write together and share what we have written (if you want to). They are for people who want to write stories\, poems\, journals\, blog posts or simply have something to say.
URL:https://daretowrite.org/event/monthly-drop-in-poetry-workshop/2019-10-19/
LOCATION:The Bookshop\, The Bookshop\, 22 High Street\, East Grinstead\, RH19 3AW
CATEGORIES:Creative Club / Course/ Workshop
ORGANIZER;CN="Honeyleaf Writing":MAILTO:hello@honeyleafwriting.com
GEO:51.1238174;-0.0072036
X-APPLE-STRUCTURED-LOCATION;VALUE=URI;X-ADDRESS=The Bookshop The Bookshop 22 High Street East Grinstead RH19 3AW;X-APPLE-RADIUS=500;X-TITLE=The Bookshop\, 22 High Street:geo:-0.0072036,51.1238174
END:VEVENT
BEGIN:VEVENT
DTSTART;TZID=Europe/London:20191009T100000
DTEND;TZID=Europe/London:20191009T120000
DTSTAMP:20260421T002426
CREATED:20190808T110733Z
LAST-MODIFIED:20190808T110733Z
UID:10000957-1570615200-1570622400@daretowrite.org
SUMMARY:Monthly Drop-In Story Workshop
DESCRIPTION:HoneyLeaf creative writing workshops are full of short\, inspiring writing exercises with plenty of encouragement. Whether you are new to writing\, returning after a break\, or a regular\, these workshops will get your ideas and words flowing onto the page. We will write together and share what we have written (if you want to). They are for people who want to write stories\, poems\, journals\, blog posts or simply have something to say.
URL:https://daretowrite.org/event/monthly-drop-in-story-workshop/2019-10-09/
LOCATION:The Bookshop\, The Bookshop\, 22 High Street\, East Grinstead\, RH19 3AW
CATEGORIES:Creative Club / Course/ Workshop
ORGANIZER;CN="Honeyleaf Writing":MAILTO:hello@honeyleafwriting.com
GEO:51.1238174;-0.0072036
X-APPLE-STRUCTURED-LOCATION;VALUE=URI;X-ADDRESS=The Bookshop The Bookshop 22 High Street East Grinstead RH19 3AW;X-APPLE-RADIUS=500;X-TITLE=The Bookshop\, 22 High Street:geo:-0.0072036,51.1238174
END:VEVENT
BEGIN:VEVENT
DTSTART;TZID=Europe/London:20191005T100000
DTEND;TZID=Europe/London:20191005T120000
DTSTAMP:20260421T002426
CREATED:20190808T110733Z
LAST-MODIFIED:20190808T110733Z
UID:10000956-1570269600-1570276800@daretowrite.org
SUMMARY:Monthly Drop-In Story Workshop
DESCRIPTION:HoneyLeaf creative writing workshops are full of short\, inspiring writing exercises with plenty of encouragement. Whether you are new to writing\, returning after a break\, or a regular\, these workshops will get your ideas and words flowing onto the page. We will write together and share what we have written (if you want to). They are for people who want to write stories\, poems\, journals\, blog posts or simply have something to say.
URL:https://daretowrite.org/event/monthly-drop-in-story-workshop/2019-10-05/
LOCATION:The Bookshop\, The Bookshop\, 22 High Street\, East Grinstead\, RH19 3AW
CATEGORIES:Creative Club / Course/ Workshop
ORGANIZER;CN="Honeyleaf Writing":MAILTO:hello@honeyleafwriting.com
GEO:51.1238174;-0.0072036
X-APPLE-STRUCTURED-LOCATION;VALUE=URI;X-ADDRESS=The Bookshop The Bookshop 22 High Street East Grinstead RH19 3AW;X-APPLE-RADIUS=500;X-TITLE=The Bookshop\, 22 High Street:geo:-0.0072036,51.1238174
END:VEVENT
BEGIN:VEVENT
DTSTART;TZID=Europe/London:20190921T100000
DTEND;TZID=Europe/London:20190921T120000
DTSTAMP:20260421T002426
CREATED:20190808T110434Z
LAST-MODIFIED:20190808T110434Z
UID:10000941-1569060000-1569067200@daretowrite.org
SUMMARY:Monthly Drop-In Poetry Workshop
DESCRIPTION:HoneyLeaf creative writing workshops are full of short\, inspiring writing exercises with plenty of encouragement. Whether you are new to writing\, returning after a break\, or a regular\, these workshops will get your ideas and words flowing onto the page. We will write together and share what we have written (if you want to). They are for people who want to write stories\, poems\, journals\, blog posts or simply have something to say.
URL:https://daretowrite.org/event/monthly-drop-in-poetry-workshop/2019-09-21/
LOCATION:The Bookshop\, The Bookshop\, 22 High Street\, East Grinstead\, RH19 3AW
CATEGORIES:Creative Club / Course/ Workshop
ORGANIZER;CN="Honeyleaf Writing":MAILTO:hello@honeyleafwriting.com
GEO:51.1238174;-0.0072036
X-APPLE-STRUCTURED-LOCATION;VALUE=URI;X-ADDRESS=The Bookshop The Bookshop 22 High Street East Grinstead RH19 3AW;X-APPLE-RADIUS=500;X-TITLE=The Bookshop\, 22 High Street:geo:-0.0072036,51.1238174
END:VEVENT
BEGIN:VEVENT
DTSTART;TZID=Europe/London:20190907T100000
DTEND;TZID=Europe/London:20190907T120000
DTSTAMP:20260421T002426
CREATED:20190808T110733Z
LAST-MODIFIED:20190808T110733Z
UID:10000955-1567850400-1567857600@daretowrite.org
SUMMARY:Monthly Drop-In Story Workshop
DESCRIPTION:HoneyLeaf creative writing workshops are full of short\, inspiring writing exercises with plenty of encouragement. Whether you are new to writing\, returning after a break\, or a regular\, these workshops will get your ideas and words flowing onto the page. We will write together and share what we have written (if you want to). They are for people who want to write stories\, poems\, journals\, blog posts or simply have something to say.
URL:https://daretowrite.org/event/monthly-drop-in-story-workshop/2019-09-07/
LOCATION:The Bookshop\, The Bookshop\, 22 High Street\, East Grinstead\, RH19 3AW
CATEGORIES:Creative Club / Course/ Workshop
ORGANIZER;CN="Honeyleaf Writing":MAILTO:hello@honeyleafwriting.com
GEO:51.1238174;-0.0072036
X-APPLE-STRUCTURED-LOCATION;VALUE=URI;X-ADDRESS=The Bookshop The Bookshop 22 High Street East Grinstead RH19 3AW;X-APPLE-RADIUS=500;X-TITLE=The Bookshop\, 22 High Street:geo:-0.0072036,51.1238174
END:VEVENT
BEGIN:VEVENT
DTSTART;TZID=Europe/London:20190427T100000
DTEND;TZID=Europe/London:20190427T120000
DTSTAMP:20260421T002426
CREATED:20190418T134353Z
LAST-MODIFIED:20190425T140709Z
UID:10000306-1556359200-1556366400@daretowrite.org
SUMMARY:HoneyLeaf Monthly Poetry Workshops
DESCRIPTION:Playing with language\, sounds and the rhythm of words\, we’ll allow poetry to emerge from prompts and exercises. We will write together\, share what we’ve written (if you want to) and listen to each other.  \nCost: £20 per workshop. Block booking discounts and gift vouchers available. Email hello@honeyleafwriting.com to book.
URL:https://daretowrite.org/event/honeyleaf-monthly-poetry-workshops/
CATEGORIES:Creative Club / Course/ Workshop
END:VEVENT
END:VCALENDAR