BEGIN:VCALENDAR
VERSION:2.0
PRODID:-//Dare to Write? - ECPv6.15.17//NONSGML v1.0//EN
CALSCALE:GREGORIAN
METHOD:PUBLISH
X-WR-CALNAME:Dare to Write?
X-ORIGINAL-URL:https://daretowrite.org
X-WR-CALDESC:Events for Dare to Write?
REFRESH-INTERVAL;VALUE=DURATION:PT1H
X-Robots-Tag:noindex
X-PUBLISHED-TTL:PT1H
BEGIN:VTIMEZONE
TZID:Europe/London
BEGIN:DAYLIGHT
TZOFFSETFROM:+0000
TZOFFSETTO:+0100
TZNAME:BST
DTSTART:20170326T010000
END:DAYLIGHT
BEGIN:STANDARD
TZOFFSETFROM:+0100
TZOFFSETTO:+0000
TZNAME:GMT
DTSTART:20171029T010000
END:STANDARD
BEGIN:DAYLIGHT
TZOFFSETFROM:+0000
TZOFFSETTO:+0100
TZNAME:BST
DTSTART:20180325T010000
END:DAYLIGHT
BEGIN:STANDARD
TZOFFSETFROM:+0100
TZOFFSETTO:+0000
TZNAME:GMT
DTSTART:20181028T010000
END:STANDARD
BEGIN:DAYLIGHT
TZOFFSETFROM:+0000
TZOFFSETTO:+0100
TZNAME:BST
DTSTART:20190331T010000
END:DAYLIGHT
BEGIN:STANDARD
TZOFFSETFROM:+0100
TZOFFSETTO:+0000
TZNAME:GMT
DTSTART:20191027T010000
END:STANDARD
END:VTIMEZONE
BEGIN:VEVENT
DTSTART;TZID=Europe/London:20181020T110000
DTEND;TZID=Europe/London:20181020T130000
DTSTAMP:20260422T230839
CREATED:20180628T161524Z
LAST-MODIFIED:20180709T123102Z
UID:10000042-1540033200-1540040400@daretowrite.org
SUMMARY:Derby Young Writers - Writing Group
DESCRIPTION:No matter if you’ve been writing for years\, weeks\, or if you just want to get started\, Derby Young Writers is a space where you can explore\, share and be inspired in any and all kinds of writing\, from stories to blogs\, poetry to plays\, fantasy to fan fiction. \nOur meetings include a mix of writing\, discussion and give you a chance to get feedback on things you’ve written – as part of the group and outside. \n£5 per session (1st session free).
URL:https://daretowrite.org/event/derby-young-writers-writing-group/2018-10-20/
LOCATION:QUAD\, Market Place\, Cathedral Quarter\, Derby\, DE1 3AS
CATEGORIES:Creative Club / Course/ Workshop
ORGANIZER;CN="Derby Young Writers":MAILTO:derbyyoungwriters@gmail.com
GEO:52.9232454;-1.475355
X-APPLE-STRUCTURED-LOCATION;VALUE=URI;X-ADDRESS=QUAD Market Place Cathedral Quarter Derby DE1 3AS;X-APPLE-RADIUS=500;X-TITLE=Market Place\, Cathedral Quarter:geo:-1.475355,52.9232454
END:VEVENT
BEGIN:VEVENT
DTSTART;TZID=Europe/London:20181020T110000
DTEND;TZID=Europe/London:20181020T130000
DTSTAMP:20260422T230839
CREATED:20180628T161524Z
LAST-MODIFIED:20180628T161524Z
UID:10000047-1540033200-1540040400@daretowrite.org
SUMMARY:Derby Young Writers - Writing Group
DESCRIPTION:No matter if you’ve been writing for years\, weeks\, or if you just want to get started\, Derby Young Writers is a space where you can explore\, share and be inspired in any and all kinds of writing\, from stories to blogs\, poetry to plays\, fantasy to fan fiction. \nOur meetings include a mix of writing\, discussion and give you a chance to get feedback on things you’ve written – as part of the group and outside. \n£5 per session (1st session free).
URL:https://daretowrite.org/event/derby-young-writers-writing-group-2/2018-10-20/
LOCATION:QUAD\, Market Place\, Cathedral Quarter\, Derby\, DE1 3AS
CATEGORIES:Creative Club / Course/ Workshop
ORGANIZER;CN="Derby Young Writers":MAILTO:derbyyoungwriters@gmail.com
GEO:52.9232454;-1.475355
X-APPLE-STRUCTURED-LOCATION;VALUE=URI;X-ADDRESS=QUAD Market Place Cathedral Quarter Derby DE1 3AS;X-APPLE-RADIUS=500;X-TITLE=Market Place\, Cathedral Quarter:geo:-1.475355,52.9232454
END:VEVENT
BEGIN:VEVENT
DTSTART;TZID=Europe/London:20180915T110000
DTEND;TZID=Europe/London:20180915T130000
DTSTAMP:20260422T230839
CREATED:20180628T161524Z
LAST-MODIFIED:20180709T123102Z
UID:10000041-1537009200-1537016400@daretowrite.org
SUMMARY:Derby Young Writers - Writing Group
DESCRIPTION:No matter if you’ve been writing for years\, weeks\, or if you just want to get started\, Derby Young Writers is a space where you can explore\, share and be inspired in any and all kinds of writing\, from stories to blogs\, poetry to plays\, fantasy to fan fiction. \nOur meetings include a mix of writing\, discussion and give you a chance to get feedback on things you’ve written – as part of the group and outside. \n£5 per session (1st session free).
URL:https://daretowrite.org/event/derby-young-writers-writing-group/2018-09-15/
LOCATION:QUAD\, Market Place\, Cathedral Quarter\, Derby\, DE1 3AS
CATEGORIES:Creative Club / Course/ Workshop
ORGANIZER;CN="Derby Young Writers":MAILTO:derbyyoungwriters@gmail.com
GEO:52.9232454;-1.475355
X-APPLE-STRUCTURED-LOCATION;VALUE=URI;X-ADDRESS=QUAD Market Place Cathedral Quarter Derby DE1 3AS;X-APPLE-RADIUS=500;X-TITLE=Market Place\, Cathedral Quarter:geo:-1.475355,52.9232454
END:VEVENT
BEGIN:VEVENT
DTSTART;TZID=Europe/London:20180915T110000
DTEND;TZID=Europe/London:20180915T130000
DTSTAMP:20260422T230839
CREATED:20180628T161524Z
LAST-MODIFIED:20180628T161524Z
UID:10000046-1537009200-1537016400@daretowrite.org
SUMMARY:Derby Young Writers - Writing Group
DESCRIPTION:No matter if you’ve been writing for years\, weeks\, or if you just want to get started\, Derby Young Writers is a space where you can explore\, share and be inspired in any and all kinds of writing\, from stories to blogs\, poetry to plays\, fantasy to fan fiction. \nOur meetings include a mix of writing\, discussion and give you a chance to get feedback on things you’ve written – as part of the group and outside. \n£5 per session (1st session free).
URL:https://daretowrite.org/event/derby-young-writers-writing-group-2/2018-09-15/
LOCATION:QUAD\, Market Place\, Cathedral Quarter\, Derby\, DE1 3AS
CATEGORIES:Creative Club / Course/ Workshop
ORGANIZER;CN="Derby Young Writers":MAILTO:derbyyoungwriters@gmail.com
GEO:52.9232454;-1.475355
X-APPLE-STRUCTURED-LOCATION;VALUE=URI;X-ADDRESS=QUAD Market Place Cathedral Quarter Derby DE1 3AS;X-APPLE-RADIUS=500;X-TITLE=Market Place\, Cathedral Quarter:geo:-1.475355,52.9232454
END:VEVENT
BEGIN:VEVENT
DTSTART;TZID=Europe/London:20180818T110000
DTEND;TZID=Europe/London:20180818T130000
DTSTAMP:20260422T230839
CREATED:20180628T161524Z
LAST-MODIFIED:20180709T123102Z
UID:10000040-1534590000-1534597200@daretowrite.org
SUMMARY:Derby Young Writers - Writing Group
DESCRIPTION:No matter if you’ve been writing for years\, weeks\, or if you just want to get started\, Derby Young Writers is a space where you can explore\, share and be inspired in any and all kinds of writing\, from stories to blogs\, poetry to plays\, fantasy to fan fiction. \nOur meetings include a mix of writing\, discussion and give you a chance to get feedback on things you’ve written – as part of the group and outside. \n£5 per session (1st session free).
URL:https://daretowrite.org/event/derby-young-writers-writing-group/2018-08-18/
LOCATION:QUAD\, Market Place\, Cathedral Quarter\, Derby\, DE1 3AS
CATEGORIES:Creative Club / Course/ Workshop
ORGANIZER;CN="Derby Young Writers":MAILTO:derbyyoungwriters@gmail.com
GEO:52.9232454;-1.475355
X-APPLE-STRUCTURED-LOCATION;VALUE=URI;X-ADDRESS=QUAD Market Place Cathedral Quarter Derby DE1 3AS;X-APPLE-RADIUS=500;X-TITLE=Market Place\, Cathedral Quarter:geo:-1.475355,52.9232454
END:VEVENT
BEGIN:VEVENT
DTSTART;TZID=Europe/London:20180818T110000
DTEND;TZID=Europe/London:20180818T130000
DTSTAMP:20260422T230839
CREATED:20180628T161524Z
LAST-MODIFIED:20180628T161524Z
UID:10000045-1534590000-1534597200@daretowrite.org
SUMMARY:Derby Young Writers - Writing Group
DESCRIPTION:No matter if you’ve been writing for years\, weeks\, or if you just want to get started\, Derby Young Writers is a space where you can explore\, share and be inspired in any and all kinds of writing\, from stories to blogs\, poetry to plays\, fantasy to fan fiction. \nOur meetings include a mix of writing\, discussion and give you a chance to get feedback on things you’ve written – as part of the group and outside. \n£5 per session (1st session free).
URL:https://daretowrite.org/event/derby-young-writers-writing-group-2/2018-08-18/
LOCATION:QUAD\, Market Place\, Cathedral Quarter\, Derby\, DE1 3AS
CATEGORIES:Creative Club / Course/ Workshop
ORGANIZER;CN="Derby Young Writers":MAILTO:derbyyoungwriters@gmail.com
GEO:52.9232454;-1.475355
X-APPLE-STRUCTURED-LOCATION;VALUE=URI;X-ADDRESS=QUAD Market Place Cathedral Quarter Derby DE1 3AS;X-APPLE-RADIUS=500;X-TITLE=Market Place\, Cathedral Quarter:geo:-1.475355,52.9232454
END:VEVENT
END:VCALENDAR