BEGIN:VCALENDAR
VERSION:2.0
PRODID:-//Dare to Write? - ECPv6.15.17//NONSGML v1.0//EN
CALSCALE:GREGORIAN
METHOD:PUBLISH
X-ORIGINAL-URL:https://daretowrite.org
X-WR-CALDESC:Events for Dare to Write?
REFRESH-INTERVAL;VALUE=DURATION:PT1H
X-Robots-Tag:noindex
X-PUBLISHED-TTL:PT1H
BEGIN:VTIMEZONE
TZID:Europe/London
BEGIN:DAYLIGHT
TZOFFSETFROM:+0000
TZOFFSETTO:+0100
TZNAME:BST
DTSTART:20180325T010000
END:DAYLIGHT
BEGIN:STANDARD
TZOFFSETFROM:+0100
TZOFFSETTO:+0000
TZNAME:GMT
DTSTART:20181028T010000
END:STANDARD
BEGIN:DAYLIGHT
TZOFFSETFROM:+0000
TZOFFSETTO:+0100
TZNAME:BST
DTSTART:20190331T010000
END:DAYLIGHT
BEGIN:STANDARD
TZOFFSETFROM:+0100
TZOFFSETTO:+0000
TZNAME:GMT
DTSTART:20191027T010000
END:STANDARD
BEGIN:DAYLIGHT
TZOFFSETFROM:+0000
TZOFFSETTO:+0100
TZNAME:BST
DTSTART:20200329T010000
END:DAYLIGHT
BEGIN:STANDARD
TZOFFSETFROM:+0100
TZOFFSETTO:+0000
TZNAME:GMT
DTSTART:20201025T010000
END:STANDARD
END:VTIMEZONE
BEGIN:VEVENT
DTSTART;TZID=Europe/London:20190605T100000
DTEND;TZID=Europe/London:20190605T120000
DTSTAMP:20260421T213459
CREATED:20190425T075604Z
LAST-MODIFIED:20190425T075604Z
UID:10000392-1559728800-1559736000@daretowrite.org
SUMMARY:What the fly saw and what I thought about it
DESCRIPTION:Everyone has a story to tell\, but what if a fly told it for us? Would it see the things we see? Would it say the same things we say? This workshop will explore narrative points of view and whether there is such a thing as objective reality.
URL:https://daretowrite.org/event/what-the-fly-saw-and-what-i-thought-about-it/
LOCATION:Figgis Room\, Tyneside Cinema 10 Pilgrim Street\, Newcastle upon Tyne\, Northumberland\, NE1 6QG\, United Kingdom
CATEGORIES:Creative Club / Course/ Workshop
ORGANIZER;CN="New Writing North & Creative Future":MAILTO:office@newwritingnorth.com
GEO:54.9738306;-1.612151
X-APPLE-STRUCTURED-LOCATION;VALUE=URI;X-ADDRESS=Figgis Room Tyneside Cinema 10 Pilgrim Street Newcastle upon Tyne Northumberland NE1 6QG United Kingdom;X-APPLE-RADIUS=500;X-TITLE=Tyneside Cinema 10 Pilgrim Street:geo:-1.612151,54.9738306
END:VEVENT
BEGIN:VEVENT
DTSTART;TZID=Europe/London:20190515T100000
DTEND;TZID=Europe/London:20190515T120000
DTSTAMP:20260421T213459
CREATED:20190425T075249Z
LAST-MODIFIED:20190425T075436Z
UID:10000391-1557914400-1557921600@daretowrite.org
SUMMARY:Landscape and Identity
DESCRIPTION:Following on from our enormously popular colour workshop last year\, we’ll be looking at abstract landscapes for inspiration. How much does landscape shape what we write? What does landscape tell us about ourselves? Landscapes have histories\, just as we do. With writing tutor Pat Winslow.
URL:https://daretowrite.org/event/landscape-and-identity/
LOCATION:Figgis Room\, Tyneside Cinema 10 Pilgrim Street\, Newcastle upon Tyne\, Northumberland\, NE1 6QG\, United Kingdom
CATEGORIES:Creative Club / Course/ Workshop
ORGANIZER;CN="New Writing North & Creative Future":MAILTO:office@newwritingnorth.com
GEO:54.9738306;-1.612151
X-APPLE-STRUCTURED-LOCATION;VALUE=URI;X-ADDRESS=Figgis Room Tyneside Cinema 10 Pilgrim Street Newcastle upon Tyne Northumberland NE1 6QG United Kingdom;X-APPLE-RADIUS=500;X-TITLE=Tyneside Cinema 10 Pilgrim Street:geo:-1.612151,54.9738306
END:VEVENT
END:VCALENDAR