BEGIN:VCALENDAR
VERSION:2.0
PRODID:-//Dare to Write? - ECPv6.15.17//NONSGML v1.0//EN
CALSCALE:GREGORIAN
METHOD:PUBLISH
X-ORIGINAL-URL:https://daretowrite.org
X-WR-CALDESC:Events for Dare to Write?
REFRESH-INTERVAL;VALUE=DURATION:PT1H
X-Robots-Tag:noindex
X-PUBLISHED-TTL:PT1H
BEGIN:VTIMEZONE
TZID:Europe/London
BEGIN:DAYLIGHT
TZOFFSETFROM:+0000
TZOFFSETTO:+0100
TZNAME:BST
DTSTART:20170326T010000
END:DAYLIGHT
BEGIN:STANDARD
TZOFFSETFROM:+0100
TZOFFSETTO:+0000
TZNAME:GMT
DTSTART:20171029T010000
END:STANDARD
BEGIN:DAYLIGHT
TZOFFSETFROM:+0000
TZOFFSETTO:+0100
TZNAME:BST
DTSTART:20180325T010000
END:DAYLIGHT
BEGIN:STANDARD
TZOFFSETFROM:+0100
TZOFFSETTO:+0000
TZNAME:GMT
DTSTART:20181028T010000
END:STANDARD
BEGIN:DAYLIGHT
TZOFFSETFROM:+0000
TZOFFSETTO:+0100
TZNAME:BST
DTSTART:20190331T010000
END:DAYLIGHT
BEGIN:STANDARD
TZOFFSETFROM:+0100
TZOFFSETTO:+0000
TZNAME:GMT
DTSTART:20191027T010000
END:STANDARD
BEGIN:DAYLIGHT
TZOFFSETFROM:+0000
TZOFFSETTO:+0100
TZNAME:BST
DTSTART:20200329T010000
END:DAYLIGHT
BEGIN:STANDARD
TZOFFSETFROM:+0100
TZOFFSETTO:+0000
TZNAME:GMT
DTSTART:20201025T010000
END:STANDARD
END:VTIMEZONE
BEGIN:VEVENT
DTSTART;VALUE=DATE:20190812
DTEND;VALUE=DATE:20190817
DTSTAMP:20260423T055258
CREATED:20190809T124741Z
LAST-MODIFIED:20190809T124741Z
UID:10001122-1565568000-1565999999@daretowrite.org
SUMMARY:One Week Creative Writing Course
DESCRIPTION:Join me this summer for my popular one week creative writing course for budding young writers aged 8-12. Children who have a story to tell will love this fun packed week filled with games and activities that will aid children in developing their characters\, plot and setting before drafting\, editing and finally publishing their stories. The week culminates in a ‘book’ launch celebration\, where children can share their hard work with family members. \nTo book contact the park: 028 2826 2471.
URL:https://daretowrite.org/event/one-week-creative-writing-course-2/
LOCATION:Carnfunnock Country Park\, Coast Road\, Ballygalley\, Larne\, BT40 2QZ
CATEGORIES:Creative Club / Course/ Workshop
GEO:54.9037928;-5.8697632
X-APPLE-STRUCTURED-LOCATION;VALUE=URI;X-ADDRESS=Carnfunnock Country Park Coast Road Ballygalley Larne BT40 2QZ;X-APPLE-RADIUS=500;X-TITLE=Coast Road:geo:-5.8697632,54.9037928
END:VEVENT
BEGIN:VEVENT
DTSTART;VALUE=DATE:20190812
DTEND;VALUE=DATE:20190817
DTSTAMP:20260423T055258
CREATED:20190425T105053Z
LAST-MODIFIED:20190425T105053Z
UID:10000756-1565568000-1565999999@daretowrite.org
SUMMARY:One Week Creative Writing Course
DESCRIPTION:Join me this summer for my popular one week creative writing course for budding young writers aged 8-12. Children who have a story to tell will love this fun packed week filled with games and activities that will aid children in developing their characters\, plot and setting before drafting\, editing and finally publishing their stories. The week culminates in a ‘book’ launch celebration\, where children can share their hard work with family members.
URL:https://daretowrite.org/event/one-week-creative-writing-course/
LOCATION:Carnfunnock Country Park\, Coast Road\, Ballygalley\, Larne\, BT40 2QZ
CATEGORIES:Creative Club / Course/ Workshop
GEO:54.9037928;-5.8697632
X-APPLE-STRUCTURED-LOCATION;VALUE=URI;X-ADDRESS=Carnfunnock Country Park Coast Road Ballygalley Larne BT40 2QZ;X-APPLE-RADIUS=500;X-TITLE=Coast Road:geo:-5.8697632,54.9037928
END:VEVENT
BEGIN:VEVENT
DTSTART;TZID=Europe/London:20180813T100000
DTEND;TZID=Europe/London:20180817T120000
DTSTAMP:20260423T055258
CREATED:20180628T161148Z
LAST-MODIFIED:20180709T123851Z
UID:10000038-1534154400-1534507200@daretowrite.org
SUMMARY:Tale Time Writing Courses
DESCRIPTION:A week long creative writing workshop for children aged 8-12 with writer and storyteller Vicky McFarland. Children will explore character\, setting and plot. Using drama\, storytelling and games they will create\, draft\, edit\, publish and illustrate their stories. The week culminates with a presentation ‘book launch’ where the children will read excepts of their stories.
URL:https://daretowrite.org/event/tale-time-writing-courses-2/
LOCATION:Carnfunnock Country Park\, Coast Road\, Ballygalley\, Larne\, BT40 2QZ
CATEGORIES:Creative Club / Course/ Workshop
GEO:54.9037928;-5.8697632
X-APPLE-STRUCTURED-LOCATION;VALUE=URI;X-ADDRESS=Carnfunnock Country Park Coast Road Ballygalley Larne BT40 2QZ;X-APPLE-RADIUS=500;X-TITLE=Coast Road:geo:-5.8697632,54.9037928
END:VEVENT
BEGIN:VEVENT
DTSTART;TZID=Europe/London:20180813T100000
DTEND;TZID=Europe/London:20180817T120000
DTSTAMP:20260423T055258
CREATED:20180628T161148Z
LAST-MODIFIED:20180628T161148Z
UID:10000039-1534154400-1534507200@daretowrite.org
SUMMARY:Tale Time Writing Courses
DESCRIPTION:A week long creative writing workshop for children aged 8-12 with writer and storyteller Vicky McFarland. Children will explore character\, setting and plot. Using drama\, storytelling and games they will create\, draft\, edit\, publish and illustrate their stories. The week culminates with a presentation ‘book launch’ where the children will read excepts of their stories.
URL:https://daretowrite.org/event/tale-time-writing-courses-2-2/
LOCATION:Carnfunnock Country Park\, Coast Road\, Ballygalley\, Larne\, BT40 2QZ
CATEGORIES:Creative Club / Course/ Workshop
GEO:54.9037928;-5.8697632
X-APPLE-STRUCTURED-LOCATION;VALUE=URI;X-ADDRESS=Carnfunnock Country Park Coast Road Ballygalley Larne BT40 2QZ;X-APPLE-RADIUS=500;X-TITLE=Coast Road:geo:-5.8697632,54.9037928
END:VEVENT
END:VCALENDAR