BEGIN:VCALENDAR
VERSION:2.0
PRODID:-//Dare to Write? - ECPv6.15.17//NONSGML v1.0//EN
CALSCALE:GREGORIAN
METHOD:PUBLISH
X-ORIGINAL-URL:https://daretowrite.org
X-WR-CALDESC:Events for Dare to Write?
REFRESH-INTERVAL;VALUE=DURATION:PT1H
X-Robots-Tag:noindex
X-PUBLISHED-TTL:PT1H
BEGIN:VTIMEZONE
TZID:Europe/London
BEGIN:DAYLIGHT
TZOFFSETFROM:+0000
TZOFFSETTO:+0100
TZNAME:BST
DTSTART:20180325T010000
END:DAYLIGHT
BEGIN:STANDARD
TZOFFSETFROM:+0100
TZOFFSETTO:+0000
TZNAME:GMT
DTSTART:20181028T010000
END:STANDARD
BEGIN:DAYLIGHT
TZOFFSETFROM:+0000
TZOFFSETTO:+0100
TZNAME:BST
DTSTART:20190331T010000
END:DAYLIGHT
BEGIN:STANDARD
TZOFFSETFROM:+0100
TZOFFSETTO:+0000
TZNAME:GMT
DTSTART:20191027T010000
END:STANDARD
BEGIN:DAYLIGHT
TZOFFSETFROM:+0000
TZOFFSETTO:+0100
TZNAME:BST
DTSTART:20200329T010000
END:DAYLIGHT
BEGIN:STANDARD
TZOFFSETFROM:+0100
TZOFFSETTO:+0000
TZNAME:GMT
DTSTART:20201025T010000
END:STANDARD
END:VTIMEZONE
BEGIN:VEVENT
DTSTART;TZID=Europe/London:20190928T100000
DTEND;TZID=Europe/London:20190928T130000
DTSTAMP:20260420T154830
CREATED:20190809T085946Z
LAST-MODIFIED:20190809T085946Z
UID:10001055-1569664800-1569675600@daretowrite.org
SUMMARY:WRITING FOR SUCCESS
DESCRIPTION:Words. They’re your most valuable currency. But how do you use them to make your organisation efficient\, effective and exceptional? This intensive half-day workshop will show you how. \nWHO WILL LEAD THE WORKSHOP? Dr Rachel Bentham Rachel Bentham is a professional writer and tutor who has run workshops for the BBC\, Creative Youth Network\, Bristol and Nottingham Councils\, and many others. She specialises in helping clients to make their professional writing accessible and effective\, cutting the clutter and maintaining a ‘house’ style. \nMore information is available on the website:
URL:https://daretowrite.org/event/writing-for-success/
LOCATION:Bristol Hotel\, Bristol Hotel\, Prince Street\, Bristol\, BS1 4QF\, United Kingdom
CATEGORIES:Creative Club / Course/ Workshop
ORGANIZER;CN="Writing Project":MAILTO:writebetter@writingproject.co.uk
GEO:51.4503269;-2.5967714
X-APPLE-STRUCTURED-LOCATION;VALUE=URI;X-ADDRESS=Bristol Hotel Bristol Hotel Prince Street Bristol BS1 4QF United Kingdom;X-APPLE-RADIUS=500;X-TITLE=Bristol Hotel\, Prince Street:geo:-2.5967714,51.4503269
END:VEVENT
END:VCALENDAR