BEGIN:VCALENDAR
VERSION:2.0
PRODID:-//Dare to Write? - ECPv6.15.17//NONSGML v1.0//EN
CALSCALE:GREGORIAN
METHOD:PUBLISH
X-WR-CALNAME:Dare to Write?
X-ORIGINAL-URL:https://daretowrite.org
X-WR-CALDESC:Events for Dare to Write?
REFRESH-INTERVAL;VALUE=DURATION:PT1H
X-Robots-Tag:noindex
X-PUBLISHED-TTL:PT1H
BEGIN:VTIMEZONE
TZID:Europe/London
BEGIN:DAYLIGHT
TZOFFSETFROM:+0000
TZOFFSETTO:+0100
TZNAME:BST
DTSTART:20180325T010000
END:DAYLIGHT
BEGIN:STANDARD
TZOFFSETFROM:+0100
TZOFFSETTO:+0000
TZNAME:GMT
DTSTART:20181028T010000
END:STANDARD
BEGIN:DAYLIGHT
TZOFFSETFROM:+0000
TZOFFSETTO:+0100
TZNAME:BST
DTSTART:20190331T010000
END:DAYLIGHT
BEGIN:STANDARD
TZOFFSETFROM:+0100
TZOFFSETTO:+0000
TZNAME:GMT
DTSTART:20191027T010000
END:STANDARD
BEGIN:DAYLIGHT
TZOFFSETFROM:+0000
TZOFFSETTO:+0100
TZNAME:BST
DTSTART:20200329T010000
END:DAYLIGHT
BEGIN:STANDARD
TZOFFSETFROM:+0100
TZOFFSETTO:+0000
TZNAME:GMT
DTSTART:20201025T010000
END:STANDARD
END:VTIMEZONE
BEGIN:VEVENT
DTSTART;TZID=Europe/London:20190925T183000
DTEND;TZID=Europe/London:20190925T203000
DTSTAMP:20260422T205133
CREATED:20190808T092347Z
LAST-MODIFIED:20190808T092347Z
UID:10000833-1569436200-1569443400@daretowrite.org
SUMMARY:Short Course: Starting to Write (Prose & Scripts)
DESCRIPTION:A five-week short course on both the creative and the practical aspects of writing novels\, short stories and scripts. You’ll create characters\, plan plots and discuss dialogue as you write from scratch or develop work you’ve already begun. At the same time you’ll learn about what publishers need and why – plus the essentials you need to know for self-publishing. Then you’ll also find out exactly how to juggle your writing alongside all the other commitments in your life: how to get started\, how to keep going and then how to finish.\nThis course is open to all abilities\, particularly those new to writing\, or new to writing prose and scripts. \n 
URL:https://daretowrite.org/event/short-course-starting-to-write-prose-scripts/2019-09-25/
LOCATION:Birmingham and Midland Institute\, 9 Margaret Street\, Birmingham\, B3 3BS\, United Kingdom
CATEGORIES:Creative Club / Course/ Workshop
ORGANIZER;CN="Writing West Midlands":MAILTO:emma@writingwestmidlands.org
GEO:52.4814966;-1.9037456
X-APPLE-STRUCTURED-LOCATION;VALUE=URI;X-ADDRESS=Birmingham and Midland Institute 9 Margaret Street Birmingham B3 3BS United Kingdom;X-APPLE-RADIUS=500;X-TITLE=9 Margaret Street:geo:-1.9037456,52.4814966
END:VEVENT
BEGIN:VEVENT
DTSTART;TZID=Europe/London:20190921T100000
DTEND;TZID=Europe/London:20190921T160000
DTSTAMP:20260422T205133
CREATED:20190808T094719Z
LAST-MODIFIED:20190808T094719Z
UID:10000857-1569060000-1569081600@daretowrite.org
SUMMARY:Two-Day Short Course: Voice: Performing Poetry for an Audience
DESCRIPTION:This two-day workshop is designed for poets who find it challenging to speak their own texts in front of an audience. The first aim of the work will be for you to understand better what is at stake physically and emotionally when you are in front of an audience. You will discuss what you find exciting when you hear poets speak and what happens to you when you speak your poems. You will have a chance to practice speaking in a safe environment. You will learn how your voice works and how to use it in the context of a public reading. You will learn how to connect to your text using imagery and how to stay connected to the audience while speaking. \nYou will gain more confidence and leave the workshop with some tools to help you to consolidate what you will have discovered that is helping you. The workshop is intended for poets published or not\, but you need to have some written work prepared. Come with a few of your poems you want to work with.
URL:https://daretowrite.org/event/two-day-short-course-voice-performing-poetry-for-an-audience/2019-09-21/
LOCATION:Birmingham and Midland Institute\, 9 Margaret Street\, Birmingham\, B3 3BS\, United Kingdom
CATEGORIES:Creative Club / Course/ Workshop
ORGANIZER;CN="Writing West Midlands":MAILTO:emma@writingwestmidlands.org
GEO:52.4814966;-1.9037456
X-APPLE-STRUCTURED-LOCATION;VALUE=URI;X-ADDRESS=Birmingham and Midland Institute 9 Margaret Street Birmingham B3 3BS United Kingdom;X-APPLE-RADIUS=500;X-TITLE=9 Margaret Street:geo:-1.9037456,52.4814966
END:VEVENT
BEGIN:VEVENT
DTSTART;TZID=Europe/London:20190918T183000
DTEND;TZID=Europe/London:20190918T203000
DTSTAMP:20260422T205133
CREATED:20190808T092347Z
LAST-MODIFIED:20190808T092347Z
UID:10000832-1568831400-1568838600@daretowrite.org
SUMMARY:Short Course: Starting to Write (Prose & Scripts)
DESCRIPTION:A five-week short course on both the creative and the practical aspects of writing novels\, short stories and scripts. You’ll create characters\, plan plots and discuss dialogue as you write from scratch or develop work you’ve already begun. At the same time you’ll learn about what publishers need and why – plus the essentials you need to know for self-publishing. Then you’ll also find out exactly how to juggle your writing alongside all the other commitments in your life: how to get started\, how to keep going and then how to finish.\nThis course is open to all abilities\, particularly those new to writing\, or new to writing prose and scripts. \n 
URL:https://daretowrite.org/event/short-course-starting-to-write-prose-scripts/2019-09-18/
LOCATION:Birmingham and Midland Institute\, 9 Margaret Street\, Birmingham\, B3 3BS\, United Kingdom
CATEGORIES:Creative Club / Course/ Workshop
ORGANIZER;CN="Writing West Midlands":MAILTO:emma@writingwestmidlands.org
GEO:52.4814966;-1.9037456
X-APPLE-STRUCTURED-LOCATION;VALUE=URI;X-ADDRESS=Birmingham and Midland Institute 9 Margaret Street Birmingham B3 3BS United Kingdom;X-APPLE-RADIUS=500;X-TITLE=9 Margaret Street:geo:-1.9037456,52.4814966
END:VEVENT
BEGIN:VEVENT
DTSTART;TZID=Europe/London:20190911T183000
DTEND;TZID=Europe/London:20190911T203000
DTSTAMP:20260422T205133
CREATED:20190808T092347Z
LAST-MODIFIED:20190808T092347Z
UID:10000831-1568226600-1568233800@daretowrite.org
SUMMARY:Short Course: Starting to Write (Prose & Scripts)
DESCRIPTION:A five-week short course on both the creative and the practical aspects of writing novels\, short stories and scripts. You’ll create characters\, plan plots and discuss dialogue as you write from scratch or develop work you’ve already begun. At the same time you’ll learn about what publishers need and why – plus the essentials you need to know for self-publishing. Then you’ll also find out exactly how to juggle your writing alongside all the other commitments in your life: how to get started\, how to keep going and then how to finish.\nThis course is open to all abilities\, particularly those new to writing\, or new to writing prose and scripts. \n 
URL:https://daretowrite.org/event/short-course-starting-to-write-prose-scripts/2019-09-11/
LOCATION:Birmingham and Midland Institute\, 9 Margaret Street\, Birmingham\, B3 3BS\, United Kingdom
CATEGORIES:Creative Club / Course/ Workshop
ORGANIZER;CN="Writing West Midlands":MAILTO:emma@writingwestmidlands.org
GEO:52.4814966;-1.9037456
X-APPLE-STRUCTURED-LOCATION;VALUE=URI;X-ADDRESS=Birmingham and Midland Institute 9 Margaret Street Birmingham B3 3BS United Kingdom;X-APPLE-RADIUS=500;X-TITLE=9 Margaret Street:geo:-1.9037456,52.4814966
END:VEVENT
BEGIN:VEVENT
DTSTART;TZID=Europe/London:20190518T100000
DTEND;TZID=Europe/London:20190518T160000
DTSTAMP:20260422T205133
CREATED:20190418T115516Z
LAST-MODIFIED:20190425T141018Z
UID:10000271-1558173600-1558195200@daretowrite.org
SUMMARY:One-Day Short Course: Dark and Speculative Fiction
DESCRIPTION:Explore the darker reaches of the human experience from your notebook or laptop: join us for a one-day workshop which subverts the “normal” and uncovers other worlds\, other realities and alternative stories. \nThe course will explore what dark fiction is\, as well as discussing the best writing and publishing in the genre at the moment. \nYou’ll gain practical information about the genre and the process of writing alternative fiction\, in short or full length fiction form. You’ll be advised on plot\, vocabulary and how to avoid clichés. You’ll also gain valuable advice on what to do with your writing\, and how to submit it for publication.
URL:https://daretowrite.org/event/one-day-short-course-dark-and-speculative-fiction/
CATEGORIES:Creative Club / Course/ Workshop
END:VEVENT
END:VCALENDAR