BEGIN:VCALENDAR
VERSION:2.0
PRODID:-//Dare to Write? - ECPv6.15.17//NONSGML v1.0//EN
CALSCALE:GREGORIAN
METHOD:PUBLISH
X-WR-CALNAME:Dare to Write?
X-ORIGINAL-URL:https://daretowrite.org
X-WR-CALDESC:Events for Dare to Write?
REFRESH-INTERVAL;VALUE=DURATION:PT1H
X-Robots-Tag:noindex
X-PUBLISHED-TTL:PT1H
BEGIN:VTIMEZONE
TZID:Europe/London
BEGIN:DAYLIGHT
TZOFFSETFROM:+0000
TZOFFSETTO:+0100
TZNAME:BST
DTSTART:20170326T010000
END:DAYLIGHT
BEGIN:STANDARD
TZOFFSETFROM:+0100
TZOFFSETTO:+0000
TZNAME:GMT
DTSTART:20171029T010000
END:STANDARD
BEGIN:DAYLIGHT
TZOFFSETFROM:+0000
TZOFFSETTO:+0100
TZNAME:BST
DTSTART:20180325T010000
END:DAYLIGHT
BEGIN:STANDARD
TZOFFSETFROM:+0100
TZOFFSETTO:+0000
TZNAME:GMT
DTSTART:20181028T010000
END:STANDARD
BEGIN:DAYLIGHT
TZOFFSETFROM:+0000
TZOFFSETTO:+0100
TZNAME:BST
DTSTART:20190331T010000
END:DAYLIGHT
BEGIN:STANDARD
TZOFFSETFROM:+0100
TZOFFSETTO:+0000
TZNAME:GMT
DTSTART:20191027T010000
END:STANDARD
BEGIN:DAYLIGHT
TZOFFSETFROM:+0000
TZOFFSETTO:+0100
TZNAME:BST
DTSTART:20200329T010000
END:DAYLIGHT
BEGIN:STANDARD
TZOFFSETFROM:+0100
TZOFFSETTO:+0000
TZNAME:GMT
DTSTART:20201025T010000
END:STANDARD
END:VTIMEZONE
BEGIN:VEVENT
DTSTART;TZID=Europe/London:20190608T120000
DTEND;TZID=Europe/London:20190608T160000
DTSTAMP:20260422T071125
CREATED:20190425T103435Z
LAST-MODIFIED:20190425T103511Z
UID:10000560-1559995200-1560009600@daretowrite.org
SUMMARY:Young Writers Lab
DESCRIPTION:If you are aged 12-18\, love writing and would like to work with writer\, Alice Maddicott\, and other young writers to develop your skills then join us for monthly workshops at Bath Central Library. You will be supported to develop your creative ideas\, gain access to Bath Festivals events and create work for publication and sharing at the festivals. \neducation@bathfestivals.org.uk
URL:https://daretowrite.org/event/young-writers-lab/2019-06-08/
LOCATION:Bath Central Library\, Bath Central Library\, The Podium\, 19-23 Northgate Street\, Bath\, NE Somerset\, BA1 5AN\, United Kingdom
CATEGORIES:Creative Club / Course/ Workshop
ORGANIZER;CN="Bath Festivals":MAILTO:info@bathfestivals.org.uk
GEO:51.3834695;-2.3588737
X-APPLE-STRUCTURED-LOCATION;VALUE=URI;X-ADDRESS=Bath Central Library Bath Central Library The Podium 19-23 Northgate Street Bath NE Somerset BA1 5AN United Kingdom;X-APPLE-RADIUS=500;X-TITLE=Bath Central Library\, The Podium\, 19-23 Northgate Street:geo:-2.3588737,51.3834695
END:VEVENT
BEGIN:VEVENT
DTSTART;TZID=Europe/London:20190511T120000
DTEND;TZID=Europe/London:20190511T160000
DTSTAMP:20260422T071125
CREATED:20190425T103435Z
LAST-MODIFIED:20190425T103511Z
UID:10000559-1557576000-1557590400@daretowrite.org
SUMMARY:Young Writers Lab
DESCRIPTION:If you are aged 12-18\, love writing and would like to work with writer\, Alice Maddicott\, and other young writers to develop your skills then join us for monthly workshops at Bath Central Library. You will be supported to develop your creative ideas\, gain access to Bath Festivals events and create work for publication and sharing at the festivals. \neducation@bathfestivals.org.uk
URL:https://daretowrite.org/event/young-writers-lab/2019-05-11/
LOCATION:Bath Central Library\, Bath Central Library\, The Podium\, 19-23 Northgate Street\, Bath\, NE Somerset\, BA1 5AN\, United Kingdom
CATEGORIES:Creative Club / Course/ Workshop
ORGANIZER;CN="Bath Festivals":MAILTO:info@bathfestivals.org.uk
GEO:51.3834695;-2.3588737
X-APPLE-STRUCTURED-LOCATION;VALUE=URI;X-ADDRESS=Bath Central Library Bath Central Library The Podium 19-23 Northgate Street Bath NE Somerset BA1 5AN United Kingdom;X-APPLE-RADIUS=500;X-TITLE=Bath Central Library\, The Podium\, 19-23 Northgate Street:geo:-2.3588737,51.3834695
END:VEVENT
BEGIN:VEVENT
DTSTART;TZID=Europe/London:20180820T133000
DTEND;TZID=Europe/London:20180820T153000
DTSTAMP:20260422T071125
CREATED:20180803T122100Z
LAST-MODIFIED:20180803T122100Z
UID:10000204-1534771800-1534779000@daretowrite.org
SUMMARY:Dare to Write Library Mini Series
DESCRIPTION:Join us on our new Dare to Write workshop mini-series. Our top writer\, Lucy Condon\, will be touring the South West with zine-making and storytelling workshops for a variety of ages. Start your journey to becoming a writer today. Just drop in to the library and ask to see the sign up sheet so we know you are coming. There a limited number of places so get going to be involved. Parents and guardians’ attendance is optional. This session is aimed at ages 8-11.
URL:https://daretowrite.org/event/dare-to-write-library-mini-series/
LOCATION:Bath Central Library\, Bath Central Library\, The Podium\, 19-23 Northgate Street\, Bath\, NE Somerset\, BA1 5AN\, United Kingdom
CATEGORIES:Creative Club / Course/ Workshop
ORGANIZER;CN="Paper Nations in association with Book Kernel":MAILTO:l.green@bathspa.ac.uk
GEO:51.3834695;-2.3588737
X-APPLE-STRUCTURED-LOCATION;VALUE=URI;X-ADDRESS=Bath Central Library Bath Central Library The Podium 19-23 Northgate Street Bath NE Somerset BA1 5AN United Kingdom;X-APPLE-RADIUS=500;X-TITLE=Bath Central Library\, The Podium\, 19-23 Northgate Street:geo:-2.3588737,51.3834695
END:VEVENT
BEGIN:VEVENT
DTSTART;TZID=Europe/London:20180820T133000
DTEND;TZID=Europe/London:20180820T153000
DTSTAMP:20260422T071125
CREATED:20180803T122100Z
LAST-MODIFIED:20180803T122100Z
UID:10000205-1534771800-1534779000@daretowrite.org
SUMMARY:Dare to Write Library Mini Series
DESCRIPTION:Join us on our new Dare to Write workshop mini-series. Our top writer\, Lucy Condon\, will be touring the South West with zine-making and storytelling workshops for a variety of ages. Start your journey to becoming a writer today. Just drop in to the library and ask to see the sign up sheet so we know you are coming. There a limited number of places so get going to be involved. Parents and guardians’ attendance is optional. This session is aimed at ages 8-11.
URL:https://daretowrite.org/event/dare-to-write-library-mini-series-5/
LOCATION:Bath Central Library\, Bath Central Library\, The Podium\, 19-23 Northgate Street\, Bath\, NE Somerset\, BA1 5AN\, United Kingdom
CATEGORIES:Creative Club / Course/ Workshop
ORGANIZER;CN="Paper Nations in association with Book Kernel":MAILTO:l.green@bathspa.ac.uk
GEO:51.3834695;-2.3588737
X-APPLE-STRUCTURED-LOCATION;VALUE=URI;X-ADDRESS=Bath Central Library Bath Central Library The Podium 19-23 Northgate Street Bath NE Somerset BA1 5AN United Kingdom;X-APPLE-RADIUS=500;X-TITLE=Bath Central Library\, The Podium\, 19-23 Northgate Street:geo:-2.3588737,51.3834695
END:VEVENT
END:VCALENDAR