BEGIN:VCALENDAR
VERSION:2.0
PRODID:-//Dare to Write? - ECPv6.15.17//NONSGML v1.0//EN
CALSCALE:GREGORIAN
METHOD:PUBLISH
X-WR-CALNAME:Dare to Write?
X-ORIGINAL-URL:https://daretowrite.org
X-WR-CALDESC:Events for Dare to Write?
REFRESH-INTERVAL;VALUE=DURATION:PT1H
X-Robots-Tag:noindex
X-PUBLISHED-TTL:PT1H
BEGIN:VTIMEZONE
TZID:Europe/London
BEGIN:DAYLIGHT
TZOFFSETFROM:+0000
TZOFFSETTO:+0100
TZNAME:BST
DTSTART:20180325T010000
END:DAYLIGHT
BEGIN:STANDARD
TZOFFSETFROM:+0100
TZOFFSETTO:+0000
TZNAME:GMT
DTSTART:20181028T010000
END:STANDARD
BEGIN:DAYLIGHT
TZOFFSETFROM:+0000
TZOFFSETTO:+0100
TZNAME:BST
DTSTART:20190331T010000
END:DAYLIGHT
BEGIN:STANDARD
TZOFFSETFROM:+0100
TZOFFSETTO:+0000
TZNAME:GMT
DTSTART:20191027T010000
END:STANDARD
BEGIN:DAYLIGHT
TZOFFSETFROM:+0000
TZOFFSETTO:+0100
TZNAME:BST
DTSTART:20200329T010000
END:DAYLIGHT
BEGIN:STANDARD
TZOFFSETFROM:+0100
TZOFFSETTO:+0000
TZNAME:GMT
DTSTART:20201025T010000
END:STANDARD
END:VTIMEZONE
BEGIN:VEVENT
DTSTART;TZID=Europe/London:20190515T200000
DTEND;TZID=Europe/London:20190515T230000
DTSTAMP:20260421T121315
CREATED:20190425T074925Z
LAST-MODIFIED:20190425T074925Z
UID:10000390-1557950400-1557961200@daretowrite.org
SUMMARY:Word Command - Spoken Word Evening
DESCRIPTION:Our Bi-monthly spoken word evening Word Command has become one of the must perform at events in South West England. \nCome spend the evening with us and those performing. The evening will serve up a mashing of poetry\, storytelling comedy and more… Host by the Word Command Master\, Bryce.
URL:https://daretowrite.org/event/word-command-spoken-word-evening/
LOCATION:Barnfield Theatre\, Barnfield Road\, Exeter\, Devon\, EX1 1SN\, United Kingdom
CATEGORIES:Celebration Event
GEO:50.7230219;-3.5257093
X-APPLE-STRUCTURED-LOCATION;VALUE=URI;X-ADDRESS=Barnfield Theatre Barnfield Road Exeter Devon EX1 1SN United Kingdom;X-APPLE-RADIUS=500;X-TITLE=Barnfield Road:geo:-3.5257093,50.7230219
END:VEVENT
END:VCALENDAR