BEGIN:VCALENDAR
VERSION:2.0
PRODID:-//Dare to Write? - ECPv6.15.17//NONSGML v1.0//EN
CALSCALE:GREGORIAN
METHOD:PUBLISH
X-WR-CALNAME:Dare to Write?
X-ORIGINAL-URL:https://daretowrite.org
X-WR-CALDESC:Events for Dare to Write?
REFRESH-INTERVAL;VALUE=DURATION:PT1H
X-Robots-Tag:noindex
X-PUBLISHED-TTL:PT1H
BEGIN:VTIMEZONE
TZID:Europe/London
BEGIN:DAYLIGHT
TZOFFSETFROM:+0000
TZOFFSETTO:+0100
TZNAME:BST
DTSTART:20180325T010000
END:DAYLIGHT
BEGIN:STANDARD
TZOFFSETFROM:+0100
TZOFFSETTO:+0000
TZNAME:GMT
DTSTART:20181028T010000
END:STANDARD
BEGIN:DAYLIGHT
TZOFFSETFROM:+0000
TZOFFSETTO:+0100
TZNAME:BST
DTSTART:20190331T010000
END:DAYLIGHT
BEGIN:STANDARD
TZOFFSETFROM:+0100
TZOFFSETTO:+0000
TZNAME:GMT
DTSTART:20191027T010000
END:STANDARD
BEGIN:DAYLIGHT
TZOFFSETFROM:+0000
TZOFFSETTO:+0100
TZNAME:BST
DTSTART:20200329T010000
END:DAYLIGHT
BEGIN:STANDARD
TZOFFSETFROM:+0100
TZOFFSETTO:+0000
TZNAME:GMT
DTSTART:20201025T010000
END:STANDARD
END:VTIMEZONE
BEGIN:VEVENT
DTSTART;TZID=Europe/London:20190522T140000
DTEND;TZID=Europe/London:20190522T160000
DTSTAMP:20260420T071124
CREATED:20190418T135328Z
LAST-MODIFIED:20190418T135328Z
UID:10000312-1558533600-1558540800@daretowrite.org
SUMMARY:Weekly Creative Writing Workshop
DESCRIPTION:The Creative Writing Group provides a positive and productive atmosphere for writers to take part\, learn\, develop and to harness creativity effectively to benefit an individual’s skill and competence as a writer. Come and join us! \nEvery Wednesday from 2pm to 4pm \nThis event is free\, no ticket required.
URL:https://daretowrite.org/event/weekly-creative-writing-workshop/2019-05-22/
LOCATION:Baccup Library\, Bacup Library\, St James Square\, Bacup\, Lancashire\, OL13 9AH\, United Kingdom
CATEGORIES:Creative Club / Course/ Workshop
ORGANIZER;CN="Baccup Library":MAILTO:bacup.library@lancashire.gov.uk
GEO:53.7033602;-2.2002978
X-APPLE-STRUCTURED-LOCATION;VALUE=URI;X-ADDRESS=Baccup Library Bacup Library St James Square Bacup Lancashire OL13 9AH United Kingdom;X-APPLE-RADIUS=500;X-TITLE=Bacup Library\, St James Square:geo:-2.2002978,53.7033602
END:VEVENT
BEGIN:VEVENT
DTSTART;TZID=Europe/London:20190515T140000
DTEND;TZID=Europe/London:20190515T160000
DTSTAMP:20260420T071124
CREATED:20190418T135328Z
LAST-MODIFIED:20190418T135328Z
UID:10000311-1557928800-1557936000@daretowrite.org
SUMMARY:Weekly Creative Writing Workshop
DESCRIPTION:The Creative Writing Group provides a positive and productive atmosphere for writers to take part\, learn\, develop and to harness creativity effectively to benefit an individual’s skill and competence as a writer. Come and join us! \nEvery Wednesday from 2pm to 4pm \nThis event is free\, no ticket required.
URL:https://daretowrite.org/event/weekly-creative-writing-workshop/2019-05-15/
LOCATION:Baccup Library\, Bacup Library\, St James Square\, Bacup\, Lancashire\, OL13 9AH\, United Kingdom
CATEGORIES:Creative Club / Course/ Workshop
ORGANIZER;CN="Baccup Library":MAILTO:bacup.library@lancashire.gov.uk
GEO:53.7033602;-2.2002978
X-APPLE-STRUCTURED-LOCATION;VALUE=URI;X-ADDRESS=Baccup Library Bacup Library St James Square Bacup Lancashire OL13 9AH United Kingdom;X-APPLE-RADIUS=500;X-TITLE=Bacup Library\, St James Square:geo:-2.2002978,53.7033602
END:VEVENT
BEGIN:VEVENT
DTSTART;TZID=Europe/London:20190508T140000
DTEND;TZID=Europe/London:20190508T160000
DTSTAMP:20260420T071124
CREATED:20190418T135328Z
LAST-MODIFIED:20190418T135328Z
UID:10000310-1557324000-1557331200@daretowrite.org
SUMMARY:Weekly Creative Writing Workshop
DESCRIPTION:The Creative Writing Group provides a positive and productive atmosphere for writers to take part\, learn\, develop and to harness creativity effectively to benefit an individual’s skill and competence as a writer. Come and join us! \nEvery Wednesday from 2pm to 4pm \nThis event is free\, no ticket required.
URL:https://daretowrite.org/event/weekly-creative-writing-workshop/2019-05-08/
LOCATION:Baccup Library\, Bacup Library\, St James Square\, Bacup\, Lancashire\, OL13 9AH\, United Kingdom
CATEGORIES:Creative Club / Course/ Workshop
ORGANIZER;CN="Baccup Library":MAILTO:bacup.library@lancashire.gov.uk
GEO:53.7033602;-2.2002978
X-APPLE-STRUCTURED-LOCATION;VALUE=URI;X-ADDRESS=Baccup Library Bacup Library St James Square Bacup Lancashire OL13 9AH United Kingdom;X-APPLE-RADIUS=500;X-TITLE=Bacup Library\, St James Square:geo:-2.2002978,53.7033602
END:VEVENT
BEGIN:VEVENT
DTSTART;TZID=Europe/London:20190501T140000
DTEND;TZID=Europe/London:20190501T160000
DTSTAMP:20260420T071124
CREATED:20190418T135328Z
LAST-MODIFIED:20190418T135328Z
UID:10000309-1556719200-1556726400@daretowrite.org
SUMMARY:Weekly Creative Writing Workshop
DESCRIPTION:The Creative Writing Group provides a positive and productive atmosphere for writers to take part\, learn\, develop and to harness creativity effectively to benefit an individual’s skill and competence as a writer. Come and join us! \nEvery Wednesday from 2pm to 4pm \nThis event is free\, no ticket required.
URL:https://daretowrite.org/event/weekly-creative-writing-workshop/2019-05-01/
LOCATION:Baccup Library\, Bacup Library\, St James Square\, Bacup\, Lancashire\, OL13 9AH\, United Kingdom
CATEGORIES:Creative Club / Course/ Workshop
ORGANIZER;CN="Baccup Library":MAILTO:bacup.library@lancashire.gov.uk
GEO:53.7033602;-2.2002978
X-APPLE-STRUCTURED-LOCATION;VALUE=URI;X-ADDRESS=Baccup Library Bacup Library St James Square Bacup Lancashire OL13 9AH United Kingdom;X-APPLE-RADIUS=500;X-TITLE=Bacup Library\, St James Square:geo:-2.2002978,53.7033602
END:VEVENT
END:VCALENDAR