BEGIN:VCALENDAR
VERSION:2.0
PRODID:-//Dare to Write? - ECPv6.15.17//NONSGML v1.0//EN
CALSCALE:GREGORIAN
METHOD:PUBLISH
X-WR-CALNAME:Dare to Write?
X-ORIGINAL-URL:https://daretowrite.org
X-WR-CALDESC:Events for Dare to Write?
REFRESH-INTERVAL;VALUE=DURATION:PT1H
X-Robots-Tag:noindex
X-PUBLISHED-TTL:PT1H
BEGIN:VTIMEZONE
TZID:Europe/London
BEGIN:DAYLIGHT
TZOFFSETFROM:+0000
TZOFFSETTO:+0100
TZNAME:BST
DTSTART:20180325T010000
END:DAYLIGHT
BEGIN:STANDARD
TZOFFSETFROM:+0100
TZOFFSETTO:+0000
TZNAME:GMT
DTSTART:20181028T010000
END:STANDARD
BEGIN:DAYLIGHT
TZOFFSETFROM:+0000
TZOFFSETTO:+0100
TZNAME:BST
DTSTART:20190331T010000
END:DAYLIGHT
BEGIN:STANDARD
TZOFFSETFROM:+0100
TZOFFSETTO:+0000
TZNAME:GMT
DTSTART:20191027T010000
END:STANDARD
BEGIN:DAYLIGHT
TZOFFSETFROM:+0000
TZOFFSETTO:+0100
TZNAME:BST
DTSTART:20200329T010000
END:DAYLIGHT
BEGIN:STANDARD
TZOFFSETFROM:+0100
TZOFFSETTO:+0000
TZNAME:GMT
DTSTART:20201025T010000
END:STANDARD
END:VTIMEZONE
BEGIN:VEVENT
DTSTART;TZID=Europe/London:20190731T140000
DTEND;TZID=Europe/London:20190731T160000
DTSTAMP:20260421T002245
CREATED:20190418T135328Z
LAST-MODIFIED:20190418T135328Z
UID:10000322-1564581600-1564588800@daretowrite.org
SUMMARY:Weekly Creative Writing Workshop
DESCRIPTION:The Creative Writing Group provides a positive and productive atmosphere for writers to take part\, learn\, develop and to harness creativity effectively to benefit an individual’s skill and competence as a writer. Come and join us! \nEvery Wednesday from 2pm to 4pm \nThis event is free\, no ticket required.
URL:https://daretowrite.org/event/weekly-creative-writing-workshop/2019-07-31/
LOCATION:Baccup Library\, Bacup Library\, St James Square\, Bacup\, Lancashire\, OL13 9AH\, United Kingdom
CATEGORIES:Creative Club / Course/ Workshop
ORGANIZER;CN="Baccup Library":MAILTO:bacup.library@lancashire.gov.uk
GEO:53.7033602;-2.2002978
X-APPLE-STRUCTURED-LOCATION;VALUE=URI;X-ADDRESS=Baccup Library Bacup Library St James Square Bacup Lancashire OL13 9AH United Kingdom;X-APPLE-RADIUS=500;X-TITLE=Bacup Library\, St James Square:geo:-2.2002978,53.7033602
END:VEVENT
BEGIN:VEVENT
DTSTART;TZID=Europe/London:20190724T140000
DTEND;TZID=Europe/London:20190724T160000
DTSTAMP:20260421T002245
CREATED:20190418T135328Z
LAST-MODIFIED:20190418T135328Z
UID:10000321-1563976800-1563984000@daretowrite.org
SUMMARY:Weekly Creative Writing Workshop
DESCRIPTION:The Creative Writing Group provides a positive and productive atmosphere for writers to take part\, learn\, develop and to harness creativity effectively to benefit an individual’s skill and competence as a writer. Come and join us! \nEvery Wednesday from 2pm to 4pm \nThis event is free\, no ticket required.
URL:https://daretowrite.org/event/weekly-creative-writing-workshop/2019-07-24/
LOCATION:Baccup Library\, Bacup Library\, St James Square\, Bacup\, Lancashire\, OL13 9AH\, United Kingdom
CATEGORIES:Creative Club / Course/ Workshop
ORGANIZER;CN="Baccup Library":MAILTO:bacup.library@lancashire.gov.uk
GEO:53.7033602;-2.2002978
X-APPLE-STRUCTURED-LOCATION;VALUE=URI;X-ADDRESS=Baccup Library Bacup Library St James Square Bacup Lancashire OL13 9AH United Kingdom;X-APPLE-RADIUS=500;X-TITLE=Bacup Library\, St James Square:geo:-2.2002978,53.7033602
END:VEVENT
BEGIN:VEVENT
DTSTART;TZID=Europe/London:20190717T140000
DTEND;TZID=Europe/London:20190717T160000
DTSTAMP:20260421T002245
CREATED:20190418T135328Z
LAST-MODIFIED:20190418T135328Z
UID:10000320-1563372000-1563379200@daretowrite.org
SUMMARY:Weekly Creative Writing Workshop
DESCRIPTION:The Creative Writing Group provides a positive and productive atmosphere for writers to take part\, learn\, develop and to harness creativity effectively to benefit an individual’s skill and competence as a writer. Come and join us! \nEvery Wednesday from 2pm to 4pm \nThis event is free\, no ticket required.
URL:https://daretowrite.org/event/weekly-creative-writing-workshop/2019-07-17/
LOCATION:Baccup Library\, Bacup Library\, St James Square\, Bacup\, Lancashire\, OL13 9AH\, United Kingdom
CATEGORIES:Creative Club / Course/ Workshop
ORGANIZER;CN="Baccup Library":MAILTO:bacup.library@lancashire.gov.uk
GEO:53.7033602;-2.2002978
X-APPLE-STRUCTURED-LOCATION;VALUE=URI;X-ADDRESS=Baccup Library Bacup Library St James Square Bacup Lancashire OL13 9AH United Kingdom;X-APPLE-RADIUS=500;X-TITLE=Bacup Library\, St James Square:geo:-2.2002978,53.7033602
END:VEVENT
BEGIN:VEVENT
DTSTART;TZID=Europe/London:20190710T140000
DTEND;TZID=Europe/London:20190710T160000
DTSTAMP:20260421T002245
CREATED:20190418T135328Z
LAST-MODIFIED:20190418T135328Z
UID:10000319-1562767200-1562774400@daretowrite.org
SUMMARY:Weekly Creative Writing Workshop
DESCRIPTION:The Creative Writing Group provides a positive and productive atmosphere for writers to take part\, learn\, develop and to harness creativity effectively to benefit an individual’s skill and competence as a writer. Come and join us! \nEvery Wednesday from 2pm to 4pm \nThis event is free\, no ticket required.
URL:https://daretowrite.org/event/weekly-creative-writing-workshop/2019-07-10/
LOCATION:Baccup Library\, Bacup Library\, St James Square\, Bacup\, Lancashire\, OL13 9AH\, United Kingdom
CATEGORIES:Creative Club / Course/ Workshop
ORGANIZER;CN="Baccup Library":MAILTO:bacup.library@lancashire.gov.uk
GEO:53.7033602;-2.2002978
X-APPLE-STRUCTURED-LOCATION;VALUE=URI;X-ADDRESS=Baccup Library Bacup Library St James Square Bacup Lancashire OL13 9AH United Kingdom;X-APPLE-RADIUS=500;X-TITLE=Bacup Library\, St James Square:geo:-2.2002978,53.7033602
END:VEVENT
BEGIN:VEVENT
DTSTART;TZID=Europe/London:20190703T140000
DTEND;TZID=Europe/London:20190703T160000
DTSTAMP:20260421T002245
CREATED:20190418T135328Z
LAST-MODIFIED:20190418T135328Z
UID:10000318-1562162400-1562169600@daretowrite.org
SUMMARY:Weekly Creative Writing Workshop
DESCRIPTION:The Creative Writing Group provides a positive and productive atmosphere for writers to take part\, learn\, develop and to harness creativity effectively to benefit an individual’s skill and competence as a writer. Come and join us! \nEvery Wednesday from 2pm to 4pm \nThis event is free\, no ticket required.
URL:https://daretowrite.org/event/weekly-creative-writing-workshop/2019-07-03/
LOCATION:Baccup Library\, Bacup Library\, St James Square\, Bacup\, Lancashire\, OL13 9AH\, United Kingdom
CATEGORIES:Creative Club / Course/ Workshop
ORGANIZER;CN="Baccup Library":MAILTO:bacup.library@lancashire.gov.uk
GEO:53.7033602;-2.2002978
X-APPLE-STRUCTURED-LOCATION;VALUE=URI;X-ADDRESS=Baccup Library Bacup Library St James Square Bacup Lancashire OL13 9AH United Kingdom;X-APPLE-RADIUS=500;X-TITLE=Bacup Library\, St James Square:geo:-2.2002978,53.7033602
END:VEVENT
BEGIN:VEVENT
DTSTART;TZID=Europe/London:20190626T140000
DTEND;TZID=Europe/London:20190626T160000
DTSTAMP:20260421T002245
CREATED:20190418T135328Z
LAST-MODIFIED:20190418T135328Z
UID:10000317-1561557600-1561564800@daretowrite.org
SUMMARY:Weekly Creative Writing Workshop
DESCRIPTION:The Creative Writing Group provides a positive and productive atmosphere for writers to take part\, learn\, develop and to harness creativity effectively to benefit an individual’s skill and competence as a writer. Come and join us! \nEvery Wednesday from 2pm to 4pm \nThis event is free\, no ticket required.
URL:https://daretowrite.org/event/weekly-creative-writing-workshop/2019-06-26/
LOCATION:Baccup Library\, Bacup Library\, St James Square\, Bacup\, Lancashire\, OL13 9AH\, United Kingdom
CATEGORIES:Creative Club / Course/ Workshop
ORGANIZER;CN="Baccup Library":MAILTO:bacup.library@lancashire.gov.uk
GEO:53.7033602;-2.2002978
X-APPLE-STRUCTURED-LOCATION;VALUE=URI;X-ADDRESS=Baccup Library Bacup Library St James Square Bacup Lancashire OL13 9AH United Kingdom;X-APPLE-RADIUS=500;X-TITLE=Bacup Library\, St James Square:geo:-2.2002978,53.7033602
END:VEVENT
BEGIN:VEVENT
DTSTART;TZID=Europe/London:20190619T140000
DTEND;TZID=Europe/London:20190619T160000
DTSTAMP:20260421T002245
CREATED:20190418T135328Z
LAST-MODIFIED:20190418T135328Z
UID:10000316-1560952800-1560960000@daretowrite.org
SUMMARY:Weekly Creative Writing Workshop
DESCRIPTION:The Creative Writing Group provides a positive and productive atmosphere for writers to take part\, learn\, develop and to harness creativity effectively to benefit an individual’s skill and competence as a writer. Come and join us! \nEvery Wednesday from 2pm to 4pm \nThis event is free\, no ticket required.
URL:https://daretowrite.org/event/weekly-creative-writing-workshop/2019-06-19/
LOCATION:Baccup Library\, Bacup Library\, St James Square\, Bacup\, Lancashire\, OL13 9AH\, United Kingdom
CATEGORIES:Creative Club / Course/ Workshop
ORGANIZER;CN="Baccup Library":MAILTO:bacup.library@lancashire.gov.uk
GEO:53.7033602;-2.2002978
X-APPLE-STRUCTURED-LOCATION;VALUE=URI;X-ADDRESS=Baccup Library Bacup Library St James Square Bacup Lancashire OL13 9AH United Kingdom;X-APPLE-RADIUS=500;X-TITLE=Bacup Library\, St James Square:geo:-2.2002978,53.7033602
END:VEVENT
BEGIN:VEVENT
DTSTART;TZID=Europe/London:20190612T140000
DTEND;TZID=Europe/London:20190612T160000
DTSTAMP:20260421T002245
CREATED:20190418T135328Z
LAST-MODIFIED:20190418T135328Z
UID:10000315-1560348000-1560355200@daretowrite.org
SUMMARY:Weekly Creative Writing Workshop
DESCRIPTION:The Creative Writing Group provides a positive and productive atmosphere for writers to take part\, learn\, develop and to harness creativity effectively to benefit an individual’s skill and competence as a writer. Come and join us! \nEvery Wednesday from 2pm to 4pm \nThis event is free\, no ticket required.
URL:https://daretowrite.org/event/weekly-creative-writing-workshop/2019-06-12/
LOCATION:Baccup Library\, Bacup Library\, St James Square\, Bacup\, Lancashire\, OL13 9AH\, United Kingdom
CATEGORIES:Creative Club / Course/ Workshop
ORGANIZER;CN="Baccup Library":MAILTO:bacup.library@lancashire.gov.uk
GEO:53.7033602;-2.2002978
X-APPLE-STRUCTURED-LOCATION;VALUE=URI;X-ADDRESS=Baccup Library Bacup Library St James Square Bacup Lancashire OL13 9AH United Kingdom;X-APPLE-RADIUS=500;X-TITLE=Bacup Library\, St James Square:geo:-2.2002978,53.7033602
END:VEVENT
BEGIN:VEVENT
DTSTART;TZID=Europe/London:20190605T140000
DTEND;TZID=Europe/London:20190605T160000
DTSTAMP:20260421T002245
CREATED:20190418T135328Z
LAST-MODIFIED:20190418T135328Z
UID:10000314-1559743200-1559750400@daretowrite.org
SUMMARY:Weekly Creative Writing Workshop
DESCRIPTION:The Creative Writing Group provides a positive and productive atmosphere for writers to take part\, learn\, develop and to harness creativity effectively to benefit an individual’s skill and competence as a writer. Come and join us! \nEvery Wednesday from 2pm to 4pm \nThis event is free\, no ticket required.
URL:https://daretowrite.org/event/weekly-creative-writing-workshop/2019-06-05/
LOCATION:Baccup Library\, Bacup Library\, St James Square\, Bacup\, Lancashire\, OL13 9AH\, United Kingdom
CATEGORIES:Creative Club / Course/ Workshop
ORGANIZER;CN="Baccup Library":MAILTO:bacup.library@lancashire.gov.uk
GEO:53.7033602;-2.2002978
X-APPLE-STRUCTURED-LOCATION;VALUE=URI;X-ADDRESS=Baccup Library Bacup Library St James Square Bacup Lancashire OL13 9AH United Kingdom;X-APPLE-RADIUS=500;X-TITLE=Bacup Library\, St James Square:geo:-2.2002978,53.7033602
END:VEVENT
BEGIN:VEVENT
DTSTART;TZID=Europe/London:20190529T140000
DTEND;TZID=Europe/London:20190529T160000
DTSTAMP:20260421T002245
CREATED:20190418T135328Z
LAST-MODIFIED:20190418T135328Z
UID:10000313-1559138400-1559145600@daretowrite.org
SUMMARY:Weekly Creative Writing Workshop
DESCRIPTION:The Creative Writing Group provides a positive and productive atmosphere for writers to take part\, learn\, develop and to harness creativity effectively to benefit an individual’s skill and competence as a writer. Come and join us! \nEvery Wednesday from 2pm to 4pm \nThis event is free\, no ticket required.
URL:https://daretowrite.org/event/weekly-creative-writing-workshop/2019-05-29/
LOCATION:Baccup Library\, Bacup Library\, St James Square\, Bacup\, Lancashire\, OL13 9AH\, United Kingdom
CATEGORIES:Creative Club / Course/ Workshop
ORGANIZER;CN="Baccup Library":MAILTO:bacup.library@lancashire.gov.uk
GEO:53.7033602;-2.2002978
X-APPLE-STRUCTURED-LOCATION;VALUE=URI;X-ADDRESS=Baccup Library Bacup Library St James Square Bacup Lancashire OL13 9AH United Kingdom;X-APPLE-RADIUS=500;X-TITLE=Bacup Library\, St James Square:geo:-2.2002978,53.7033602
END:VEVENT
BEGIN:VEVENT
DTSTART;TZID=Europe/London:20190522T140000
DTEND;TZID=Europe/London:20190522T160000
DTSTAMP:20260421T002245
CREATED:20190418T135328Z
LAST-MODIFIED:20190418T135328Z
UID:10000312-1558533600-1558540800@daretowrite.org
SUMMARY:Weekly Creative Writing Workshop
DESCRIPTION:The Creative Writing Group provides a positive and productive atmosphere for writers to take part\, learn\, develop and to harness creativity effectively to benefit an individual’s skill and competence as a writer. Come and join us! \nEvery Wednesday from 2pm to 4pm \nThis event is free\, no ticket required.
URL:https://daretowrite.org/event/weekly-creative-writing-workshop/2019-05-22/
LOCATION:Baccup Library\, Bacup Library\, St James Square\, Bacup\, Lancashire\, OL13 9AH\, United Kingdom
CATEGORIES:Creative Club / Course/ Workshop
ORGANIZER;CN="Baccup Library":MAILTO:bacup.library@lancashire.gov.uk
GEO:53.7033602;-2.2002978
X-APPLE-STRUCTURED-LOCATION;VALUE=URI;X-ADDRESS=Baccup Library Bacup Library St James Square Bacup Lancashire OL13 9AH United Kingdom;X-APPLE-RADIUS=500;X-TITLE=Bacup Library\, St James Square:geo:-2.2002978,53.7033602
END:VEVENT
BEGIN:VEVENT
DTSTART;TZID=Europe/London:20190515T140000
DTEND;TZID=Europe/London:20190515T160000
DTSTAMP:20260421T002245
CREATED:20190418T135328Z
LAST-MODIFIED:20190418T135328Z
UID:10000311-1557928800-1557936000@daretowrite.org
SUMMARY:Weekly Creative Writing Workshop
DESCRIPTION:The Creative Writing Group provides a positive and productive atmosphere for writers to take part\, learn\, develop and to harness creativity effectively to benefit an individual’s skill and competence as a writer. Come and join us! \nEvery Wednesday from 2pm to 4pm \nThis event is free\, no ticket required.
URL:https://daretowrite.org/event/weekly-creative-writing-workshop/2019-05-15/
LOCATION:Baccup Library\, Bacup Library\, St James Square\, Bacup\, Lancashire\, OL13 9AH\, United Kingdom
CATEGORIES:Creative Club / Course/ Workshop
ORGANIZER;CN="Baccup Library":MAILTO:bacup.library@lancashire.gov.uk
GEO:53.7033602;-2.2002978
X-APPLE-STRUCTURED-LOCATION;VALUE=URI;X-ADDRESS=Baccup Library Bacup Library St James Square Bacup Lancashire OL13 9AH United Kingdom;X-APPLE-RADIUS=500;X-TITLE=Bacup Library\, St James Square:geo:-2.2002978,53.7033602
END:VEVENT
BEGIN:VEVENT
DTSTART;TZID=Europe/London:20190508T140000
DTEND;TZID=Europe/London:20190508T160000
DTSTAMP:20260421T002245
CREATED:20190418T135328Z
LAST-MODIFIED:20190418T135328Z
UID:10000310-1557324000-1557331200@daretowrite.org
SUMMARY:Weekly Creative Writing Workshop
DESCRIPTION:The Creative Writing Group provides a positive and productive atmosphere for writers to take part\, learn\, develop and to harness creativity effectively to benefit an individual’s skill and competence as a writer. Come and join us! \nEvery Wednesday from 2pm to 4pm \nThis event is free\, no ticket required.
URL:https://daretowrite.org/event/weekly-creative-writing-workshop/2019-05-08/
LOCATION:Baccup Library\, Bacup Library\, St James Square\, Bacup\, Lancashire\, OL13 9AH\, United Kingdom
CATEGORIES:Creative Club / Course/ Workshop
ORGANIZER;CN="Baccup Library":MAILTO:bacup.library@lancashire.gov.uk
GEO:53.7033602;-2.2002978
X-APPLE-STRUCTURED-LOCATION;VALUE=URI;X-ADDRESS=Baccup Library Bacup Library St James Square Bacup Lancashire OL13 9AH United Kingdom;X-APPLE-RADIUS=500;X-TITLE=Bacup Library\, St James Square:geo:-2.2002978,53.7033602
END:VEVENT
BEGIN:VEVENT
DTSTART;TZID=Europe/London:20190501T140000
DTEND;TZID=Europe/London:20190501T160000
DTSTAMP:20260421T002245
CREATED:20190418T135328Z
LAST-MODIFIED:20190418T135328Z
UID:10000309-1556719200-1556726400@daretowrite.org
SUMMARY:Weekly Creative Writing Workshop
DESCRIPTION:The Creative Writing Group provides a positive and productive atmosphere for writers to take part\, learn\, develop and to harness creativity effectively to benefit an individual’s skill and competence as a writer. Come and join us! \nEvery Wednesday from 2pm to 4pm \nThis event is free\, no ticket required.
URL:https://daretowrite.org/event/weekly-creative-writing-workshop/2019-05-01/
LOCATION:Baccup Library\, Bacup Library\, St James Square\, Bacup\, Lancashire\, OL13 9AH\, United Kingdom
CATEGORIES:Creative Club / Course/ Workshop
ORGANIZER;CN="Baccup Library":MAILTO:bacup.library@lancashire.gov.uk
GEO:53.7033602;-2.2002978
X-APPLE-STRUCTURED-LOCATION;VALUE=URI;X-ADDRESS=Baccup Library Bacup Library St James Square Bacup Lancashire OL13 9AH United Kingdom;X-APPLE-RADIUS=500;X-TITLE=Bacup Library\, St James Square:geo:-2.2002978,53.7033602
END:VEVENT
END:VCALENDAR