BEGIN:VCALENDAR
VERSION:2.0
PRODID:-//Dare to Write? - ECPv6.15.17//NONSGML v1.0//EN
CALSCALE:GREGORIAN
METHOD:PUBLISH
X-WR-CALNAME:Dare to Write?
X-ORIGINAL-URL:https://daretowrite.org
X-WR-CALDESC:Events for Dare to Write?
REFRESH-INTERVAL;VALUE=DURATION:PT1H
X-Robots-Tag:noindex
X-PUBLISHED-TTL:PT1H
BEGIN:VTIMEZONE
TZID:Europe/London
BEGIN:DAYLIGHT
TZOFFSETFROM:+0000
TZOFFSETTO:+0100
TZNAME:BST
DTSTART:20180325T010000
END:DAYLIGHT
BEGIN:STANDARD
TZOFFSETFROM:+0100
TZOFFSETTO:+0000
TZNAME:GMT
DTSTART:20181028T010000
END:STANDARD
BEGIN:DAYLIGHT
TZOFFSETFROM:+0000
TZOFFSETTO:+0100
TZNAME:BST
DTSTART:20190331T010000
END:DAYLIGHT
BEGIN:STANDARD
TZOFFSETFROM:+0100
TZOFFSETTO:+0000
TZNAME:GMT
DTSTART:20191027T010000
END:STANDARD
BEGIN:DAYLIGHT
TZOFFSETFROM:+0000
TZOFFSETTO:+0100
TZNAME:BST
DTSTART:20200329T010000
END:DAYLIGHT
BEGIN:STANDARD
TZOFFSETFROM:+0100
TZOFFSETTO:+0000
TZNAME:GMT
DTSTART:20201025T010000
END:STANDARD
END:VTIMEZONE
BEGIN:VEVENT
DTSTART;VALUE=DATE:20190722
DTEND;VALUE=DATE:20190728
DTSTAMP:20260422T221035
CREATED:20190425T104318Z
LAST-MODIFIED:20190425T104814Z
UID:10000743-1563753600-1564271999@daretowrite.org
SUMMARY:Spark Young Writers Summer School
DESCRIPTION:Come and join us on Monday 22nd – Friday 26th July for five days of writing\, performing\, playing with words\, meeting other young (and not-so-young) writers and learn to be the writer you want to be. The Spark Summer School is run by poet Liz Berry and poet and writer Paul McDonald. \nWe’ll dabble in lots of different types of writing\, from poetry to radio plays to flash fiction to wordplay\, and we’ll finish the week with a special performance for your friends and family.
URL:https://daretowrite.org/event/spark-young-writers-summer-school/
LOCATION:Humanities Hub\, Faculty of the Arts\, University of Wolverhampton\, Wulfruna Street\, Wolverhampton\, WV1 1LY\, United Kingdom
CATEGORIES:Creative Club / Course/ Workshop
ORGANIZER;CN="Writing West Midlands":MAILTO:emma@writingwestmidlands.org
GEO:52.588177;-2.1274393
X-APPLE-STRUCTURED-LOCATION;VALUE=URI;X-ADDRESS=Humanities Hub Faculty of the Arts University of Wolverhampton Wulfruna Street Wolverhampton WV1 1LY United Kingdom;X-APPLE-RADIUS=500;X-TITLE=Faculty of the Arts\, University of Wolverhampton\, Wulfruna Street:geo:-2.1274393,52.588177
END:VEVENT
BEGIN:VEVENT
DTSTART;TZID=Europe/London:20190518T100000
DTEND;TZID=Europe/London:20190518T160000
DTSTAMP:20260422T221035
CREATED:20190418T115516Z
LAST-MODIFIED:20190425T141018Z
UID:10000271-1558173600-1558195200@daretowrite.org
SUMMARY:One-Day Short Course: Dark and Speculative Fiction
DESCRIPTION:Explore the darker reaches of the human experience from your notebook or laptop: join us for a one-day workshop which subverts the “normal” and uncovers other worlds\, other realities and alternative stories. \nThe course will explore what dark fiction is\, as well as discussing the best writing and publishing in the genre at the moment. \nYou’ll gain practical information about the genre and the process of writing alternative fiction\, in short or full length fiction form. You’ll be advised on plot\, vocabulary and how to avoid clichés. You’ll also gain valuable advice on what to do with your writing\, and how to submit it for publication.
URL:https://daretowrite.org/event/one-day-short-course-dark-and-speculative-fiction/
CATEGORIES:Creative Club / Course/ Workshop
END:VEVENT
END:VCALENDAR