BEGIN:VCALENDAR
VERSION:2.0
PRODID:-//Dare to Write? - ECPv6.15.17//NONSGML v1.0//EN
CALSCALE:GREGORIAN
METHOD:PUBLISH
X-ORIGINAL-URL:https://daretowrite.org
X-WR-CALDESC:Events for Dare to Write?
REFRESH-INTERVAL;VALUE=DURATION:PT1H
X-Robots-Tag:noindex
X-PUBLISHED-TTL:PT1H
BEGIN:VTIMEZONE
TZID:Europe/London
BEGIN:DAYLIGHT
TZOFFSETFROM:+0000
TZOFFSETTO:+0100
TZNAME:BST
DTSTART:20180325T010000
END:DAYLIGHT
BEGIN:STANDARD
TZOFFSETFROM:+0100
TZOFFSETTO:+0000
TZNAME:GMT
DTSTART:20181028T010000
END:STANDARD
BEGIN:DAYLIGHT
TZOFFSETFROM:+0000
TZOFFSETTO:+0100
TZNAME:BST
DTSTART:20190331T010000
END:DAYLIGHT
BEGIN:STANDARD
TZOFFSETFROM:+0100
TZOFFSETTO:+0000
TZNAME:GMT
DTSTART:20191027T010000
END:STANDARD
BEGIN:DAYLIGHT
TZOFFSETFROM:+0000
TZOFFSETTO:+0100
TZNAME:BST
DTSTART:20200329T010000
END:DAYLIGHT
BEGIN:STANDARD
TZOFFSETFROM:+0100
TZOFFSETTO:+0000
TZNAME:GMT
DTSTART:20201025T010000
END:STANDARD
END:VTIMEZONE
BEGIN:VEVENT
DTSTART;TZID=Europe/London:20191127T103000
DTEND;TZID=Europe/London:20191127T120000
DTSTAMP:20260422T175956
CREATED:20190809T151338Z
LAST-MODIFIED:20190809T151338Z
UID:10001181-1574850600-1574856000@daretowrite.org
SUMMARY:Creative Writing at Taunton Library
DESCRIPTION:A friendly and supportive group run by Friends of Taunton Library. Booking essential. Every 4th Wednesday of the month.
URL:https://daretowrite.org/event/creative-writing-at-taunton-library/2019-11-27/
LOCATION:Taunton Library\, Taunton Library\, Paul Street\, Taunton\, TA1 3XZ\, United Kingdom
CATEGORIES:Creative Club / Course/ Workshop
GEO:51.0135834;-3.1013124
X-APPLE-STRUCTURED-LOCATION;VALUE=URI;X-ADDRESS=Taunton Library Taunton Library Paul Street Taunton TA1 3XZ United Kingdom;X-APPLE-RADIUS=500;X-TITLE=Taunton Library\, Paul Street:geo:-3.1013124,51.0135834
END:VEVENT
BEGIN:VEVENT
DTSTART;TZID=Europe/London:20191023T103000
DTEND;TZID=Europe/London:20191023T120000
DTSTAMP:20260422T175956
CREATED:20190809T151338Z
LAST-MODIFIED:20190809T151338Z
UID:10001180-1571826600-1571832000@daretowrite.org
SUMMARY:Creative Writing at Taunton Library
DESCRIPTION:A friendly and supportive group run by Friends of Taunton Library. Booking essential. Every 4th Wednesday of the month.
URL:https://daretowrite.org/event/creative-writing-at-taunton-library/2019-10-23/
LOCATION:Taunton Library\, Taunton Library\, Paul Street\, Taunton\, TA1 3XZ\, United Kingdom
CATEGORIES:Creative Club / Course/ Workshop
GEO:51.0135834;-3.1013124
X-APPLE-STRUCTURED-LOCATION;VALUE=URI;X-ADDRESS=Taunton Library Taunton Library Paul Street Taunton TA1 3XZ United Kingdom;X-APPLE-RADIUS=500;X-TITLE=Taunton Library\, Paul Street:geo:-3.1013124,51.0135834
END:VEVENT
BEGIN:VEVENT
DTSTART;TZID=Europe/London:20190925T103000
DTEND;TZID=Europe/London:20190925T120000
DTSTAMP:20260422T175956
CREATED:20190809T151338Z
LAST-MODIFIED:20190809T151338Z
UID:10001179-1569407400-1569412800@daretowrite.org
SUMMARY:Creative Writing at Taunton Library
DESCRIPTION:A friendly and supportive group run by Friends of Taunton Library. Booking essential. Every 4th Wednesday of the month.
URL:https://daretowrite.org/event/creative-writing-at-taunton-library/2019-09-25/
LOCATION:Taunton Library\, Taunton Library\, Paul Street\, Taunton\, TA1 3XZ\, United Kingdom
CATEGORIES:Creative Club / Course/ Workshop
GEO:51.0135834;-3.1013124
X-APPLE-STRUCTURED-LOCATION;VALUE=URI;X-ADDRESS=Taunton Library Taunton Library Paul Street Taunton TA1 3XZ United Kingdom;X-APPLE-RADIUS=500;X-TITLE=Taunton Library\, Paul Street:geo:-3.1013124,51.0135834
END:VEVENT
BEGIN:VEVENT
DTSTART;TZID=Europe/London:20190828T103000
DTEND;TZID=Europe/London:20190828T120000
DTSTAMP:20260422T175956
CREATED:20190809T151338Z
LAST-MODIFIED:20190809T151338Z
UID:10001178-1566988200-1566993600@daretowrite.org
SUMMARY:Creative Writing at Taunton Library
DESCRIPTION:A friendly and supportive group run by Friends of Taunton Library. Booking essential. Every 4th Wednesday of the month.
URL:https://daretowrite.org/event/creative-writing-at-taunton-library/2019-08-28/
LOCATION:Taunton Library\, Taunton Library\, Paul Street\, Taunton\, TA1 3XZ\, United Kingdom
CATEGORIES:Creative Club / Course/ Workshop
GEO:51.0135834;-3.1013124
X-APPLE-STRUCTURED-LOCATION;VALUE=URI;X-ADDRESS=Taunton Library Taunton Library Paul Street Taunton TA1 3XZ United Kingdom;X-APPLE-RADIUS=500;X-TITLE=Taunton Library\, Paul Street:geo:-3.1013124,51.0135834
END:VEVENT
END:VCALENDAR