BEGIN:VCALENDAR
VERSION:2.0
PRODID:-//Dare to Write? - ECPv6.15.17//NONSGML v1.0//EN
CALSCALE:GREGORIAN
METHOD:PUBLISH
X-ORIGINAL-URL:https://daretowrite.org
X-WR-CALDESC:Events for Dare to Write?
REFRESH-INTERVAL;VALUE=DURATION:PT1H
X-Robots-Tag:noindex
X-PUBLISHED-TTL:PT1H
BEGIN:VTIMEZONE
TZID:Europe/London
BEGIN:DAYLIGHT
TZOFFSETFROM:+0000
TZOFFSETTO:+0100
TZNAME:BST
DTSTART:20180325T010000
END:DAYLIGHT
BEGIN:STANDARD
TZOFFSETFROM:+0100
TZOFFSETTO:+0000
TZNAME:GMT
DTSTART:20181028T010000
END:STANDARD
BEGIN:DAYLIGHT
TZOFFSETFROM:+0000
TZOFFSETTO:+0100
TZNAME:BST
DTSTART:20190331T010000
END:DAYLIGHT
BEGIN:STANDARD
TZOFFSETFROM:+0100
TZOFFSETTO:+0000
TZNAME:GMT
DTSTART:20191027T010000
END:STANDARD
BEGIN:DAYLIGHT
TZOFFSETFROM:+0000
TZOFFSETTO:+0100
TZNAME:BST
DTSTART:20200329T010000
END:DAYLIGHT
BEGIN:STANDARD
TZOFFSETFROM:+0100
TZOFFSETTO:+0000
TZNAME:GMT
DTSTART:20201025T010000
END:STANDARD
END:VTIMEZONE
BEGIN:VEVENT
DTSTART;TZID=Europe/London:20190914T133000
DTEND;TZID=Europe/London:20190914T154500
DTSTAMP:20260422T112700
CREATED:20190808T094908Z
LAST-MODIFIED:20190808T094908Z
UID:10000859-1568467800-1568475900@daretowrite.org
SUMMARY:Taster Session: The Creative Writing Programme and Autobiography and Life Writing Programme
DESCRIPTION:Whether you want to write a novel\, a collection of short stories\, a personal reminiscence\, a real-life story\, or a mix of these genres\, our part-time\, two-year\, university level programmes will help you get to grips with the craft of storytelling and provide you with the support and structure you’ll need to write the stories you’ve always wanted to write. \nIf you’re interested in finding out more about the Creative Writing Programme come along to one of our Taster Sessions\, exercise your imagination with some of our refreshing writing exercises\, meet our tutors and find out more about our programmes and how we work.
URL:https://daretowrite.org/event/taster-session-the-creative-writing-programme-and-autobiography-and-life-writing-programme/
LOCATION:The Writers’ Place\, Jew Street\, Brighton\, BN1 1UT
CATEGORIES:Creative Club / Course/ Workshop
ORGANIZER;CN="New Writing South":MAILTO:hello@newritingsouth.com
GEO:50.8240954;-0.1404336
X-APPLE-STRUCTURED-LOCATION;VALUE=URI;X-ADDRESS=The Writers’ Place Jew Street Brighton BN1 1UT;X-APPLE-RADIUS=500;X-TITLE=Jew Street:geo:-0.1404336,50.8240954
END:VEVENT
BEGIN:VEVENT
DTSTART;TZID=Europe/London:20190914T103000
DTEND;TZID=Europe/London:20190914T124500
DTSTAMP:20260422T112700
CREATED:20190808T094707Z
LAST-MODIFIED:20190808T094707Z
UID:10000856-1568457000-1568465100@daretowrite.org
SUMMARY:Taster Session: Dramatic Writing Programme
DESCRIPTION:Whether you want to write a novel\, a play\, a collection of short stories\, a personal reminiscence\, a real-life story\, or a mix of these genres\, our part-time\, two-year\, university level programmes will help you get to grips with the craft of storytelling and provide you with the support and structure you’ll need to write the stories you’ve always wanted to write. \nIf you’re interested in finding out more about the Creative Writing Programme come along to one of our Taster Sessions\, exercise your imagination with some of our refreshing writing exercises\, meet our tutors and find out more about our programmes and how we work.
URL:https://daretowrite.org/event/taster-session-dramatic-writing-programme/
LOCATION:The Writers’ Place\, Jew Street\, Brighton\, BN1 1UT
ORGANIZER;CN="New Writing South":MAILTO:hello@newritingsouth.com
GEO:50.8240954;-0.1404336
X-APPLE-STRUCTURED-LOCATION;VALUE=URI;X-ADDRESS=The Writers’ Place Jew Street Brighton BN1 1UT;X-APPLE-RADIUS=500;X-TITLE=Jew Street:geo:-0.1404336,50.8240954
END:VEVENT
BEGIN:VEVENT
DTSTART;TZID=Europe/London:20190907T133000
DTEND;TZID=Europe/London:20190907T154500
DTSTAMP:20260422T112700
CREATED:20190808T093339Z
LAST-MODIFIED:20190808T093339Z
UID:10000844-1567863000-1567871100@daretowrite.org
SUMMARY:Taster Session: CWP & Advanced Writing Workshops
DESCRIPTION:Whether you want to write a novel\, a collection of short stories\, a personal reminiscence\, a real-life story\, or a mix of these genres\, our part-time\, two-year\, university level programmes will help you get to grips with the craft of storytelling and provide you with the support and structure you’ll need to write the stories you’ve always wanted to write. \nIf you’re interested in finding out more about the Creative Writing Programme come along to one of our Taster Sessions\, exercise your imagination with some of our refreshing writing exercises\, meet our tutors and find out more about our programmes and how we work.
URL:https://daretowrite.org/event/taster-session-cwp-advanced-writing-workshops/
LOCATION:South Coast College\, Station Approach\, Hastings\, TN34 1BA\, United Kingdom
CATEGORIES:Creative Club / Course/ Workshop
ORGANIZER;CN="New Writing South":MAILTO:hello@newritingsouth.com
GEO:50.8576601;0.5773388
X-APPLE-STRUCTURED-LOCATION;VALUE=URI;X-ADDRESS=South Coast College Station Approach Hastings TN34 1BA United Kingdom;X-APPLE-RADIUS=500;X-TITLE=Station Approach:geo:0.5773388,50.8576601
END:VEVENT
BEGIN:VEVENT
DTSTART;TZID=Europe/London:20190829T190000
DTEND;TZID=Europe/London:20190829T210000
DTSTAMP:20260422T112700
CREATED:20190808T093057Z
LAST-MODIFIED:20190808T093057Z
UID:10000842-1567105200-1567112400@daretowrite.org
SUMMARY:Stephen Wyatt in conversation with Sharon Duggal
DESCRIPTION:In this special evening event for NWS Friends\, author Stephen Wyatt will be in conversation with Sharon Duggal about his new book The World and His Wife. The book focuses on the turbulent relationship between Victorian writer Edward Bulwer-Lytton and his wife\, Rosina Wheeler.
URL:https://daretowrite.org/event/stephen-wyatt-in-conversation-with-sharon-duggal/
LOCATION:The Writers’ Place\, Jew Street\, Brighton\, BN1 1UT
CATEGORIES:Author Event
ORGANIZER;CN="New Writing South":MAILTO:hello@newritingsouth.com
GEO:50.8240954;-0.1404336
X-APPLE-STRUCTURED-LOCATION;VALUE=URI;X-ADDRESS=The Writers’ Place Jew Street Brighton BN1 1UT;X-APPLE-RADIUS=500;X-TITLE=Jew Street:geo:-0.1404336,50.8240954
END:VEVENT
END:VCALENDAR