BEGIN:VCALENDAR
VERSION:2.0
PRODID:-//Dare to Write? - ECPv6.15.17//NONSGML v1.0//EN
CALSCALE:GREGORIAN
METHOD:PUBLISH
X-WR-CALNAME:Dare to Write?
X-ORIGINAL-URL:https://daretowrite.org
X-WR-CALDESC:Events for Dare to Write?
REFRESH-INTERVAL;VALUE=DURATION:PT1H
X-Robots-Tag:noindex
X-PUBLISHED-TTL:PT1H
BEGIN:VTIMEZONE
TZID:Europe/London
BEGIN:DAYLIGHT
TZOFFSETFROM:+0000
TZOFFSETTO:+0100
TZNAME:BST
DTSTART:20180325T010000
END:DAYLIGHT
BEGIN:STANDARD
TZOFFSETFROM:+0100
TZOFFSETTO:+0000
TZNAME:GMT
DTSTART:20181028T010000
END:STANDARD
BEGIN:DAYLIGHT
TZOFFSETFROM:+0000
TZOFFSETTO:+0100
TZNAME:BST
DTSTART:20190331T010000
END:DAYLIGHT
BEGIN:STANDARD
TZOFFSETFROM:+0100
TZOFFSETTO:+0000
TZNAME:GMT
DTSTART:20191027T010000
END:STANDARD
BEGIN:DAYLIGHT
TZOFFSETFROM:+0000
TZOFFSETTO:+0100
TZNAME:BST
DTSTART:20200329T010000
END:DAYLIGHT
BEGIN:STANDARD
TZOFFSETFROM:+0100
TZOFFSETTO:+0000
TZNAME:GMT
DTSTART:20201025T010000
END:STANDARD
BEGIN:DAYLIGHT
TZOFFSETFROM:+0000
TZOFFSETTO:+0100
TZNAME:BST
DTSTART:20210328T010000
END:DAYLIGHT
BEGIN:STANDARD
TZOFFSETFROM:+0100
TZOFFSETTO:+0000
TZNAME:GMT
DTSTART:20211031T010000
END:STANDARD
END:VTIMEZONE
BEGIN:VEVENT
DTSTART;TZID=Europe/London:20200321T140000
DTEND;TZID=Europe/London:20200321T170000
DTSTAMP:20260421T042227
CREATED:20200220T115017Z
LAST-MODIFIED:20200227T104754Z
UID:10001257-1584799200-1584810000@daretowrite.org
SUMMARY:Writers: Facing an Audience with Tanushka Marah
DESCRIPTION:The natural habitat of many writers is a solitary one\, locked away in a room honing craft\, and when they are asked to share their work (as most inevitably are) in front of a live audience at a workshop\, book launch\, festival or open mic event the first instinct is to recoil in horror. So how do writers effectively and confidently share their written work in from of a live audience? In this workshop\, Tanushka will provide you with the skills to control your nerves\, ground your voice and body and find the confidence to put your voice out into the room. She will covertone intonation and rhythm to ensure that your readings are able to engage a live listening audience\, large or small. \nA limited number of bursary places are available for this workshop for writers who cannot afford the full price. Please email hello@newwritingsouth.com for details.
URL:https://daretowrite.org/event/writers-facing-an-audience-with-tanushka-marah/
LOCATION:The Writers’ Place\, Jew Street\, Brighton\, BN1 1UT
CATEGORIES:Creative Club / Course/ Workshop
ORGANIZER;CN="New Writing South":MAILTO:hello@newritingsouth.com
GEO:50.8240954;-0.1404336
X-APPLE-STRUCTURED-LOCATION;VALUE=URI;X-ADDRESS=The Writers’ Place Jew Street Brighton BN1 1UT;X-APPLE-RADIUS=500;X-TITLE=Jew Street:geo:-0.1404336,50.8240954
END:VEVENT
BEGIN:VEVENT
DTSTART;TZID=Europe/London:20200315T103000
DTEND;TZID=Europe/London:20200315T170000
DTSTAMP:20260421T042227
CREATED:20200220T114253Z
LAST-MODIFIED:20200227T093241Z
UID:10001256-1584268200-1584291600@daretowrite.org
SUMMARY:Room to Write Retreat
DESCRIPTION:Do you wish you had a whole day away from daily distractions to focus solely on your writing? Do you long for a quiet place to plan\, read or write without interruption? A bit of time and space away from domestic life and day-job workloads which constantly seem to demand attention? If so\, our Room to Write Retreats at The Writers’ Place are for you. We’ll provide the space\, inspiration (if you need it) and endless tea\, coffee\, biscuits and healthy snacks in a quiet place in the heart of Brighton’s unique and bustling North Laine area\, just a few minutes walk from the station and the beach. Throughout the day\, there will be protected writing periods\, regular optional breaks in the company of other writers and the freedom to come and go as you please.Room to Write days allow your writing the priority it needs. Book one or a series of Retreats to beat the plague of procrastination and make some real progress with your writing project. Spaces are limited so book early to avoid disappointment.
URL:https://daretowrite.org/event/room-to-write-retreat-2/
LOCATION:The Writers’ Place\, Jew Street\, Brighton\, BN1 1UT
CATEGORIES:Other
ORGANIZER;CN="New Writing South":MAILTO:hello@newritingsouth.com
GEO:50.8240954;-0.1404336
X-APPLE-STRUCTURED-LOCATION;VALUE=URI;X-ADDRESS=The Writers’ Place Jew Street Brighton BN1 1UT;X-APPLE-RADIUS=500;X-TITLE=Jew Street:geo:-0.1404336,50.8240954
END:VEVENT
BEGIN:VEVENT
DTSTART;TZID=Europe/London:20191026T140000
DTEND;TZID=Europe/London:20191026T170000
DTSTAMP:20260421T042227
CREATED:20190808T110058Z
LAST-MODIFIED:20190808T110058Z
UID:10000940-1572098400-1572109200@daretowrite.org
SUMMARY:TV Writing Masterclass: Big Stories\, Small Screen with Pete Lawson
DESCRIPTION:Do you want to write for Television? This masterclass will look at the journey an episode of TV drama goes on\, from the first story pitch to multi-stranded storylining\, from writing a cracking first draft to top tips for honing a script and juggling shooting schedules. It will look at how the industry works and the different people involved\, as well as how to retain your own voice when writing as part of a team-created project. It will help you see if continuing drama is for you – and if not\, touch on how to develop and pitch your own original ideas and get a foot in the TV door. \nThis masterclass is aimed primarily at emerging or semi-established writers from any sector or genre who are keen to move into\, or progress within\, TV writing.
URL:https://daretowrite.org/event/tv-writing-masterclass-big-stories-small-screen-with-pete-lawson/
LOCATION:The Writers’ Place\, Jew Street\, Brighton\, BN1 1UT
CATEGORIES:Creative Club / Course/ Workshop
ORGANIZER;CN="New Writing South":MAILTO:hello@newritingsouth.com
GEO:50.8240954;-0.1404336
X-APPLE-STRUCTURED-LOCATION;VALUE=URI;X-ADDRESS=The Writers’ Place Jew Street Brighton BN1 1UT;X-APPLE-RADIUS=500;X-TITLE=Jew Street:geo:-0.1404336,50.8240954
END:VEVENT
BEGIN:VEVENT
DTSTART;TZID=Europe/London:20190929T151500
DTEND;TZID=Europe/London:20190929T164500
DTSTAMP:20260421T042227
CREATED:20190808T105917Z
LAST-MODIFIED:20190808T105917Z
UID:10000939-1569770100-1569775500@daretowrite.org
SUMMARY:Shoreham Writers’ Day: The Future of Publishing
DESCRIPTION:Speakers: Amy Winchester. Other speakers from the publishing industry to be confirmed \nNon-traditional publishing routes are on the rise. New trends in crowd-funding\, online\, hybrid and self-publishing have expanded the parameters for writers. Where next and how do writers approach and work with publishers effectively? \nAmy Winchester is the head of PR at Unbound\, where her publicity campaign for 2016’s breakout hit The Good Immigrant was shortlisted for a PPC Award. The most data-driven publisher on earth\, and the first ever to use crowdfunding\, Unbound’s mission is to disrupt the industry by bringing authors into direct communication with readers and delivering books that don’t fit the mould.
URL:https://daretowrite.org/event/shoreham-writers-day-the-future-of-publishing/
LOCATION:Ropetackle Arts Centre\, High Street\, Shoreham-By-Sea\, BN43 5EG\, United Kingdom
CATEGORIES:Creative Club / Course/ Workshop
ORGANIZER;CN="New Writing South":MAILTO:hello@newritingsouth.com
GEO:50.8320287;-0.2767928
X-APPLE-STRUCTURED-LOCATION;VALUE=URI;X-ADDRESS=Ropetackle Arts Centre High Street Shoreham-By-Sea BN43 5EG United Kingdom;X-APPLE-RADIUS=500;X-TITLE=High Street:geo:-0.2767928,50.8320287
END:VEVENT
BEGIN:VEVENT
DTSTART;TZID=Europe/London:20190929T133000
DTEND;TZID=Europe/London:20190929T144500
DTSTAMP:20260421T042227
CREATED:20190808T105655Z
LAST-MODIFIED:20190808T105655Z
UID:10000938-1569763800-1569768300@daretowrite.org
SUMMARY:Shoreham Writers’ Day: Preparing and Pitching Your Work
DESCRIPTION:With Laura Wilkinson and Beth Miller \nMarketing yourself and pitching your work is a crucial part of being a writer. How do you prepare a compelling pitch\, write a great synopsis/covering letter\, build your brand and effectively piece together your writing identity?
URL:https://daretowrite.org/event/shoreham-writers-day-preparing-and-pitching-your-work/
LOCATION:Ropetackle Arts Centre\, High Street\, Shoreham-By-Sea\, BN43 5EG\, United Kingdom
CATEGORIES:Creative Club / Course/ Workshop
ORGANIZER;CN="New Writing South":MAILTO:hello@newritingsouth.com
GEO:50.8320287;-0.2767928
X-APPLE-STRUCTURED-LOCATION;VALUE=URI;X-ADDRESS=Ropetackle Arts Centre High Street Shoreham-By-Sea BN43 5EG United Kingdom;X-APPLE-RADIUS=500;X-TITLE=High Street:geo:-0.2767928,50.8320287
END:VEVENT
BEGIN:VEVENT
DTSTART;TZID=Europe/London:20190929T114500
DTEND;TZID=Europe/London:20190929T130000
DTSTAMP:20260421T042227
CREATED:20190808T105502Z
LAST-MODIFIED:20190808T105502Z
UID:10000937-1569757500-1569762000@daretowrite.org
SUMMARY:Shoreham Writers’ Day: The Power of Research
DESCRIPTION:Speakers: Umi Sinha\, Amy Zamarripa Solis\, Sue Walker \nUncovering personal histories and unexpected stories can provide exciting inspiration for writers. How do you go about carefully unearthing\, researching and re-telling untold (hi)stories for your writing project?
URL:https://daretowrite.org/event/shoreham-writers-day-the-power-of-research/
LOCATION:Ropetackle Arts Centre\, High Street\, Shoreham-By-Sea\, BN43 5EG\, United Kingdom
CATEGORIES:Creative Club / Course/ Workshop
ORGANIZER;CN="New Writing South":MAILTO:hello@newritingsouth.com
GEO:50.8320287;-0.2767928
X-APPLE-STRUCTURED-LOCATION;VALUE=URI;X-ADDRESS=Ropetackle Arts Centre High Street Shoreham-By-Sea BN43 5EG United Kingdom;X-APPLE-RADIUS=500;X-TITLE=High Street:geo:-0.2767928,50.8320287
END:VEVENT
BEGIN:VEVENT
DTSTART;TZID=Europe/London:20190929T100000
DTEND;TZID=Europe/London:20190929T111500
DTSTAMP:20260421T042227
CREATED:20190808T103921Z
LAST-MODIFIED:20190808T103921Z
UID:10000890-1569751200-1569755700@daretowrite.org
SUMMARY:Shoreham Writers’ Day: Working With Young People
DESCRIPTION:With Eve Ainsworth and Adam Webb \nDeveloping creative projects with young people through schools and community groups is a valuable market for writers. How do you create these opportunities\, and how can you\, as a writer\, offer something really unique and meaningful in your work with this age group?
URL:https://daretowrite.org/event/shoreham-writers-day-working-with-young-people/
LOCATION:Ropetackle Arts Centre\, High Street\, Shoreham-By-Sea\, BN43 5EG\, United Kingdom
CATEGORIES:Creative Club / Course/ Workshop
ORGANIZER;CN="New Writing South":MAILTO:hello@newritingsouth.com
GEO:50.8320287;-0.2767928
X-APPLE-STRUCTURED-LOCATION;VALUE=URI;X-ADDRESS=Ropetackle Arts Centre High Street Shoreham-By-Sea BN43 5EG United Kingdom;X-APPLE-RADIUS=500;X-TITLE=High Street:geo:-0.2767928,50.8320287
END:VEVENT
BEGIN:VEVENT
DTSTART;TZID=Europe/London:20190925T190000
DTEND;TZID=Europe/London:20190925T190000
DTSTAMP:20260421T042227
CREATED:20190808T103547Z
LAST-MODIFIED:20190808T103547Z
UID:10000878-1569438000-1569438000@daretowrite.org
SUMMARY:Writing Seminar: Reader\, I Married Him!
DESCRIPTION:In this writing seminar and using examples mostly from modern fiction\, Trevor Pateman invites discussion of the different kinds of reader to be found in the writer’s head and the effects those imagined readers have on the author’s writing. Authors have different ideas about what they want from their imagined readers\, and those imagined readers can sometimes enable writing but also thwart it. \nTrevor’s own work is profiled at trevorpateman.com
URL:https://daretowrite.org/event/writing-seminar-reader-i-married-him/
LOCATION:The Writers’ Place\, Jew Street\, Brighton\, BN1 1UT
CATEGORIES:Creative Club / Course/ Workshop
ORGANIZER;CN="New Writing South":MAILTO:hello@newritingsouth.com
GEO:50.8240954;-0.1404336
X-APPLE-STRUCTURED-LOCATION;VALUE=URI;X-ADDRESS=The Writers’ Place Jew Street Brighton BN1 1UT;X-APPLE-RADIUS=500;X-TITLE=Jew Street:geo:-0.1404336,50.8240954
END:VEVENT
BEGIN:VEVENT
DTSTART;TZID=Europe/London:20190922T100000
DTEND;TZID=Europe/London:20190922T170000
DTSTAMP:20260421T042227
CREATED:20190808T103339Z
LAST-MODIFIED:20190808T103339Z
UID:10000877-1569146400-1569171600@daretowrite.org
SUMMARY:Room to Write Retreat
DESCRIPTION:Do you wish you had a whole day away from daily distractions to focus solely on your writing? Do you long for a quiet place to plan\, read or write without interruption? A bit of time and space away from domestic life and day-job workloads which constantly seem to demand attention? \nIf so\, our Room to Write Retreats at The Writers’ Place are for you. We’ll provide the space\, inspiration (if you need it) and endless tea\, coffee\, biscuits and healthy snacks in a quiet place in the heart of Brighton’s unique and bustling North Laine area\, just a few minutes walk from the station and the beach. Throughout the day\, there will be protected writing periods\, regular optional breaks in the company of other writers and the freedom to come and go as you please. \nRoom to Write days allow your writing the priority it needs. Book one or a series of Retreats to beat the plague of procrastination and make some real progress with your writing project. Spaces are limited so book early to avoid disappointment.
URL:https://daretowrite.org/event/room-to-write-retreat/
LOCATION:The Writers’ Place\, Jew Street\, Brighton\, BN1 1UT
CATEGORIES:Creative Club / Course/ Workshop
ORGANIZER;CN="New Writing South":MAILTO:hello@newritingsouth.com
GEO:50.8240954;-0.1404336
X-APPLE-STRUCTURED-LOCATION;VALUE=URI;X-ADDRESS=The Writers’ Place Jew Street Brighton BN1 1UT;X-APPLE-RADIUS=500;X-TITLE=Jew Street:geo:-0.1404336,50.8240954
END:VEVENT
BEGIN:VEVENT
DTSTART;TZID=Europe/London:20190919T194500
DTEND;TZID=Europe/London:20190919T194500
DTSTAMP:20260421T042227
CREATED:20190808T095217Z
LAST-MODIFIED:20190808T095217Z
UID:10000860-1568922300-1568922300@daretowrite.org
SUMMARY:Strong Words: Poems for Our Times
DESCRIPTION:Strong Words is hosted by Akila Richards. This lively line-up of poets will bring you writing that will appease and unease you\, comfort and stir you. \nBar open from 7.30pm. Strong Words will begin at 7.45pm.
URL:https://daretowrite.org/event/strong-words-poems-for-our-times/
LOCATION:The REC\, 2 Albion Way\, Horsham\, RH12 1AU
CATEGORIES:Celebration Event
ORGANIZER;CN="New Writing South":MAILTO:hello@newritingsouth.com
GEO:51.0646128;-0.3302014
X-APPLE-STRUCTURED-LOCATION;VALUE=URI;X-ADDRESS=The REC 2 Albion Way Horsham RH12 1AU;X-APPLE-RADIUS=500;X-TITLE=2 Albion Way:geo:-0.3302014,51.0646128
END:VEVENT
BEGIN:VEVENT
DTSTART;TZID=Europe/London:20190914T133000
DTEND;TZID=Europe/London:20190914T154500
DTSTAMP:20260421T042227
CREATED:20190808T094908Z
LAST-MODIFIED:20190808T094908Z
UID:10000859-1568467800-1568475900@daretowrite.org
SUMMARY:Taster Session: The Creative Writing Programme and Autobiography and Life Writing Programme
DESCRIPTION:Whether you want to write a novel\, a collection of short stories\, a personal reminiscence\, a real-life story\, or a mix of these genres\, our part-time\, two-year\, university level programmes will help you get to grips with the craft of storytelling and provide you with the support and structure you’ll need to write the stories you’ve always wanted to write. \nIf you’re interested in finding out more about the Creative Writing Programme come along to one of our Taster Sessions\, exercise your imagination with some of our refreshing writing exercises\, meet our tutors and find out more about our programmes and how we work.
URL:https://daretowrite.org/event/taster-session-the-creative-writing-programme-and-autobiography-and-life-writing-programme/
LOCATION:The Writers’ Place\, Jew Street\, Brighton\, BN1 1UT
CATEGORIES:Creative Club / Course/ Workshop
ORGANIZER;CN="New Writing South":MAILTO:hello@newritingsouth.com
GEO:50.8240954;-0.1404336
X-APPLE-STRUCTURED-LOCATION;VALUE=URI;X-ADDRESS=The Writers’ Place Jew Street Brighton BN1 1UT;X-APPLE-RADIUS=500;X-TITLE=Jew Street:geo:-0.1404336,50.8240954
END:VEVENT
BEGIN:VEVENT
DTSTART;TZID=Europe/London:20190914T103000
DTEND;TZID=Europe/London:20190914T124500
DTSTAMP:20260421T042227
CREATED:20190808T094707Z
LAST-MODIFIED:20190808T094707Z
UID:10000856-1568457000-1568465100@daretowrite.org
SUMMARY:Taster Session: Dramatic Writing Programme
DESCRIPTION:Whether you want to write a novel\, a play\, a collection of short stories\, a personal reminiscence\, a real-life story\, or a mix of these genres\, our part-time\, two-year\, university level programmes will help you get to grips with the craft of storytelling and provide you with the support and structure you’ll need to write the stories you’ve always wanted to write. \nIf you’re interested in finding out more about the Creative Writing Programme come along to one of our Taster Sessions\, exercise your imagination with some of our refreshing writing exercises\, meet our tutors and find out more about our programmes and how we work.
URL:https://daretowrite.org/event/taster-session-dramatic-writing-programme/
LOCATION:The Writers’ Place\, Jew Street\, Brighton\, BN1 1UT
ORGANIZER;CN="New Writing South":MAILTO:hello@newritingsouth.com
GEO:50.8240954;-0.1404336
X-APPLE-STRUCTURED-LOCATION;VALUE=URI;X-ADDRESS=The Writers’ Place Jew Street Brighton BN1 1UT;X-APPLE-RADIUS=500;X-TITLE=Jew Street:geo:-0.1404336,50.8240954
END:VEVENT
BEGIN:VEVENT
DTSTART;TZID=Europe/London:20190907T133000
DTEND;TZID=Europe/London:20190907T154500
DTSTAMP:20260421T042227
CREATED:20190808T093339Z
LAST-MODIFIED:20190808T093339Z
UID:10000844-1567863000-1567871100@daretowrite.org
SUMMARY:Taster Session: CWP & Advanced Writing Workshops
DESCRIPTION:Whether you want to write a novel\, a collection of short stories\, a personal reminiscence\, a real-life story\, or a mix of these genres\, our part-time\, two-year\, university level programmes will help you get to grips with the craft of storytelling and provide you with the support and structure you’ll need to write the stories you’ve always wanted to write. \nIf you’re interested in finding out more about the Creative Writing Programme come along to one of our Taster Sessions\, exercise your imagination with some of our refreshing writing exercises\, meet our tutors and find out more about our programmes and how we work.
URL:https://daretowrite.org/event/taster-session-cwp-advanced-writing-workshops/
LOCATION:South Coast College\, Station Approach\, Hastings\, TN34 1BA\, United Kingdom
CATEGORIES:Creative Club / Course/ Workshop
ORGANIZER;CN="New Writing South":MAILTO:hello@newritingsouth.com
GEO:50.8576601;0.5773388
X-APPLE-STRUCTURED-LOCATION;VALUE=URI;X-ADDRESS=South Coast College Station Approach Hastings TN34 1BA United Kingdom;X-APPLE-RADIUS=500;X-TITLE=Station Approach:geo:0.5773388,50.8576601
END:VEVENT
BEGIN:VEVENT
DTSTART;TZID=Europe/London:20190829T190000
DTEND;TZID=Europe/London:20190829T210000
DTSTAMP:20260421T042227
CREATED:20190808T093057Z
LAST-MODIFIED:20190808T093057Z
UID:10000842-1567105200-1567112400@daretowrite.org
SUMMARY:Stephen Wyatt in conversation with Sharon Duggal
DESCRIPTION:In this special evening event for NWS Friends\, author Stephen Wyatt will be in conversation with Sharon Duggal about his new book The World and His Wife. The book focuses on the turbulent relationship between Victorian writer Edward Bulwer-Lytton and his wife\, Rosina Wheeler.
URL:https://daretowrite.org/event/stephen-wyatt-in-conversation-with-sharon-duggal/
LOCATION:The Writers’ Place\, Jew Street\, Brighton\, BN1 1UT
CATEGORIES:Author Event
ORGANIZER;CN="New Writing South":MAILTO:hello@newritingsouth.com
GEO:50.8240954;-0.1404336
X-APPLE-STRUCTURED-LOCATION;VALUE=URI;X-ADDRESS=The Writers’ Place Jew Street Brighton BN1 1UT;X-APPLE-RADIUS=500;X-TITLE=Jew Street:geo:-0.1404336,50.8240954
END:VEVENT
END:VCALENDAR