BEGIN:VCALENDAR
VERSION:2.0
PRODID:-//Dare to Write? - ECPv6.15.17//NONSGML v1.0//EN
CALSCALE:GREGORIAN
METHOD:PUBLISH
X-ORIGINAL-URL:https://daretowrite.org
X-WR-CALDESC:Events for Dare to Write?
REFRESH-INTERVAL;VALUE=DURATION:PT1H
X-Robots-Tag:noindex
X-PUBLISHED-TTL:PT1H
BEGIN:VTIMEZONE
TZID:Europe/London
BEGIN:DAYLIGHT
TZOFFSETFROM:+0000
TZOFFSETTO:+0100
TZNAME:BST
DTSTART:20180325T010000
END:DAYLIGHT
BEGIN:STANDARD
TZOFFSETFROM:+0100
TZOFFSETTO:+0000
TZNAME:GMT
DTSTART:20181028T010000
END:STANDARD
BEGIN:DAYLIGHT
TZOFFSETFROM:+0000
TZOFFSETTO:+0100
TZNAME:BST
DTSTART:20190331T010000
END:DAYLIGHT
BEGIN:STANDARD
TZOFFSETFROM:+0100
TZOFFSETTO:+0000
TZNAME:GMT
DTSTART:20191027T010000
END:STANDARD
BEGIN:DAYLIGHT
TZOFFSETFROM:+0000
TZOFFSETTO:+0100
TZNAME:BST
DTSTART:20200329T010000
END:DAYLIGHT
BEGIN:STANDARD
TZOFFSETFROM:+0100
TZOFFSETTO:+0000
TZNAME:GMT
DTSTART:20201025T010000
END:STANDARD
END:VTIMEZONE
BEGIN:VEVENT
DTSTART;TZID=Europe/London:20191002T070000
DTEND;TZID=Europe/London:20191002T160000
DTSTAMP:20260422T214823
CREATED:20190808T141049Z
LAST-MODIFIED:20190808T141049Z
UID:10001022-1569999600-1570032000@daretowrite.org
SUMMARY:Write to Sell
DESCRIPTION:Copywriting is not just about being able to write nicely. Copy has a purpose. It needs to persuade\, convince or inspire the reader to take action. Our Write to Sell course is designed to teach you the basic writing and selling skills needed to create copy that gets results. More info is available on the website.
URL:https://daretowrite.org/event/write-to-sell/
LOCATION:Weetwood Hall Leeds Hotel and Conference Centre\, Weetwood Hall Leeds Hotel and Conference Centre\, Otley Road\, Leeds\, LS16 5PS\, United Kingdom
CATEGORIES:Creative Club / Course/ Workshop
ORGANIZER;CN="Make Your Copy Count":MAILTO:info@makeyourcopycount.com
GEO:53.8382576;-1.5914621
X-APPLE-STRUCTURED-LOCATION;VALUE=URI;X-ADDRESS=Weetwood Hall Leeds Hotel and Conference Centre Weetwood Hall Leeds Hotel and Conference Centre Otley Road Leeds LS16 5PS United Kingdom;X-APPLE-RADIUS=500;X-TITLE=Weetwood Hall Leeds Hotel and Conference Centre\, Otley Road:geo:-1.5914621,53.8382576
END:VEVENT
BEGIN:VEVENT
DTSTART;TZID=Europe/London:20190917T090000
DTEND;TZID=Europe/London:20190917T160000
DTSTAMP:20260422T214823
CREATED:20190808T141537Z
LAST-MODIFIED:20190808T141537Z
UID:10001023-1568710800-1568736000@daretowrite.org
SUMMARY:Blogging for Business
DESCRIPTION:Build a better business blog Are you thinking of starting a blog for your business? Do you have a blog with no clear strategy? Would you like to improve your company blog? Have you been put in charge of writing your company blog? If you answered yes to any of the above then this course is for you. \nContent marketing is an excellent way of generating more customers but many businesses just don’t know where to begin. Blogging is one of the easiest ways to get started in content marketing and our Blogging for Business course is designed to give you the tools to create an engaging blog. At the end of the course\, you will leave with a blog strategy\, new ideas and the confidence and skills to write engaging blog posts. This interactive workshop has a maximum of 8 places per course. This allows us to spend More info is available on the website.
URL:https://daretowrite.org/event/blogging-for-business/
LOCATION:Weetwood Hall Leeds Hotel and Conference Centre\, Weetwood Hall Leeds Hotel and Conference Centre\, Otley Road\, Leeds\, LS16 5PS\, United Kingdom
CATEGORIES:Creative Club / Course/ Workshop
ORGANIZER;CN="Make Your Copy Count":MAILTO:info@makeyourcopycount.com
GEO:53.8382576;-1.5914621
X-APPLE-STRUCTURED-LOCATION;VALUE=URI;X-ADDRESS=Weetwood Hall Leeds Hotel and Conference Centre Weetwood Hall Leeds Hotel and Conference Centre Otley Road Leeds LS16 5PS United Kingdom;X-APPLE-RADIUS=500;X-TITLE=Weetwood Hall Leeds Hotel and Conference Centre\, Otley Road:geo:-1.5914621,53.8382576
END:VEVENT
END:VCALENDAR