BEGIN:VCALENDAR
VERSION:2.0
PRODID:-//Dare to Write? - ECPv6.15.17//NONSGML v1.0//EN
CALSCALE:GREGORIAN
METHOD:PUBLISH
X-WR-CALNAME:Dare to Write?
X-ORIGINAL-URL:https://daretowrite.org
X-WR-CALDESC:Events for Dare to Write?
REFRESH-INTERVAL;VALUE=DURATION:PT1H
X-Robots-Tag:noindex
X-PUBLISHED-TTL:PT1H
BEGIN:VTIMEZONE
TZID:Europe/London
BEGIN:DAYLIGHT
TZOFFSETFROM:+0000
TZOFFSETTO:+0100
TZNAME:BST
DTSTART:20180325T010000
END:DAYLIGHT
BEGIN:STANDARD
TZOFFSETFROM:+0100
TZOFFSETTO:+0000
TZNAME:GMT
DTSTART:20181028T010000
END:STANDARD
BEGIN:DAYLIGHT
TZOFFSETFROM:+0000
TZOFFSETTO:+0100
TZNAME:BST
DTSTART:20190331T010000
END:DAYLIGHT
BEGIN:STANDARD
TZOFFSETFROM:+0100
TZOFFSETTO:+0000
TZNAME:GMT
DTSTART:20191027T010000
END:STANDARD
BEGIN:DAYLIGHT
TZOFFSETFROM:+0000
TZOFFSETTO:+0100
TZNAME:BST
DTSTART:20200329T010000
END:DAYLIGHT
BEGIN:STANDARD
TZOFFSETFROM:+0100
TZOFFSETTO:+0000
TZNAME:GMT
DTSTART:20201025T010000
END:STANDARD
END:VTIMEZONE
BEGIN:VEVENT
DTSTART;TZID=Europe/London:20191207T140000
DTEND;TZID=Europe/London:20191207T160000
DTSTAMP:20260422T164338
CREATED:20190425T083313Z
LAST-MODIFIED:20190425T083313Z
UID:10000410-1575727200-1575734400@daretowrite.org
SUMMARY:Trowbridge Stanza
DESCRIPTION:Trowbridge Stanza is a friendly and inclusive poetry group run by writer and Poetry Society member Josephine Corcoran. We meet on the first Saturday of each month\, 2-4pm\, at Drawing Projects UK\, Bridge House\, Trowbridge. Poetry discussions\, Workshopping\, Guest Poets\, Open-mic. £3 per person.
URL:https://daretowrite.org/event/trowbridge-stanza/2019-12-07/
LOCATION:Drawing Projects UK\, Bridge House\, Trowbridge\, Wiltshire\, BA14 9AE\, United Kingdom
CATEGORIES:Creative Club / Course/ Workshop
ORGANIZER;CN="Josephine Corcoran":MAILTO:josephinecorcoran13@gmail.com
GEO:51.3197246;-2.2133345
X-APPLE-STRUCTURED-LOCATION;VALUE=URI;X-ADDRESS=Drawing Projects UK Bridge House Trowbridge Wiltshire BA14 9AE United Kingdom;X-APPLE-RADIUS=500;X-TITLE=Bridge House:geo:-2.2133345,51.3197246
END:VEVENT
BEGIN:VEVENT
DTSTART;TZID=Europe/London:20191102T140000
DTEND;TZID=Europe/London:20191102T160000
DTSTAMP:20260422T164338
CREATED:20190425T083313Z
LAST-MODIFIED:20190425T083313Z
UID:10000409-1572703200-1572710400@daretowrite.org
SUMMARY:Trowbridge Stanza
DESCRIPTION:Trowbridge Stanza is a friendly and inclusive poetry group run by writer and Poetry Society member Josephine Corcoran. We meet on the first Saturday of each month\, 2-4pm\, at Drawing Projects UK\, Bridge House\, Trowbridge. Poetry discussions\, Workshopping\, Guest Poets\, Open-mic. £3 per person.
URL:https://daretowrite.org/event/trowbridge-stanza/2019-11-02/
LOCATION:Drawing Projects UK\, Bridge House\, Trowbridge\, Wiltshire\, BA14 9AE\, United Kingdom
CATEGORIES:Creative Club / Course/ Workshop
ORGANIZER;CN="Josephine Corcoran":MAILTO:josephinecorcoran13@gmail.com
GEO:51.3197246;-2.2133345
X-APPLE-STRUCTURED-LOCATION;VALUE=URI;X-ADDRESS=Drawing Projects UK Bridge House Trowbridge Wiltshire BA14 9AE United Kingdom;X-APPLE-RADIUS=500;X-TITLE=Bridge House:geo:-2.2133345,51.3197246
END:VEVENT
BEGIN:VEVENT
DTSTART;TZID=Europe/London:20191005T140000
DTEND;TZID=Europe/London:20191005T160000
DTSTAMP:20260422T164338
CREATED:20190425T083313Z
LAST-MODIFIED:20190425T083313Z
UID:10000408-1570284000-1570291200@daretowrite.org
SUMMARY:Trowbridge Stanza
DESCRIPTION:Trowbridge Stanza is a friendly and inclusive poetry group run by writer and Poetry Society member Josephine Corcoran. We meet on the first Saturday of each month\, 2-4pm\, at Drawing Projects UK\, Bridge House\, Trowbridge. Poetry discussions\, Workshopping\, Guest Poets\, Open-mic. £3 per person.
URL:https://daretowrite.org/event/trowbridge-stanza/2019-10-05/
LOCATION:Drawing Projects UK\, Bridge House\, Trowbridge\, Wiltshire\, BA14 9AE\, United Kingdom
CATEGORIES:Creative Club / Course/ Workshop
ORGANIZER;CN="Josephine Corcoran":MAILTO:josephinecorcoran13@gmail.com
GEO:51.3197246;-2.2133345
X-APPLE-STRUCTURED-LOCATION;VALUE=URI;X-ADDRESS=Drawing Projects UK Bridge House Trowbridge Wiltshire BA14 9AE United Kingdom;X-APPLE-RADIUS=500;X-TITLE=Bridge House:geo:-2.2133345,51.3197246
END:VEVENT
BEGIN:VEVENT
DTSTART;TZID=Europe/London:20190907T140000
DTEND;TZID=Europe/London:20190907T160000
DTSTAMP:20260422T164338
CREATED:20190425T083313Z
LAST-MODIFIED:20190425T083313Z
UID:10000407-1567864800-1567872000@daretowrite.org
SUMMARY:Trowbridge Stanza
DESCRIPTION:Trowbridge Stanza is a friendly and inclusive poetry group run by writer and Poetry Society member Josephine Corcoran. We meet on the first Saturday of each month\, 2-4pm\, at Drawing Projects UK\, Bridge House\, Trowbridge. Poetry discussions\, Workshopping\, Guest Poets\, Open-mic. £3 per person.
URL:https://daretowrite.org/event/trowbridge-stanza/2019-09-07/
LOCATION:Drawing Projects UK\, Bridge House\, Trowbridge\, Wiltshire\, BA14 9AE\, United Kingdom
CATEGORIES:Creative Club / Course/ Workshop
ORGANIZER;CN="Josephine Corcoran":MAILTO:josephinecorcoran13@gmail.com
GEO:51.3197246;-2.2133345
X-APPLE-STRUCTURED-LOCATION;VALUE=URI;X-ADDRESS=Drawing Projects UK Bridge House Trowbridge Wiltshire BA14 9AE United Kingdom;X-APPLE-RADIUS=500;X-TITLE=Bridge House:geo:-2.2133345,51.3197246
END:VEVENT
BEGIN:VEVENT
DTSTART;TZID=Europe/London:20190803T140000
DTEND;TZID=Europe/London:20190803T160000
DTSTAMP:20260422T164338
CREATED:20190425T083313Z
LAST-MODIFIED:20190425T083313Z
UID:10000406-1564840800-1564848000@daretowrite.org
SUMMARY:Trowbridge Stanza
DESCRIPTION:Trowbridge Stanza is a friendly and inclusive poetry group run by writer and Poetry Society member Josephine Corcoran. We meet on the first Saturday of each month\, 2-4pm\, at Drawing Projects UK\, Bridge House\, Trowbridge. Poetry discussions\, Workshopping\, Guest Poets\, Open-mic. £3 per person.
URL:https://daretowrite.org/event/trowbridge-stanza/2019-08-03/
LOCATION:Drawing Projects UK\, Bridge House\, Trowbridge\, Wiltshire\, BA14 9AE\, United Kingdom
CATEGORIES:Creative Club / Course/ Workshop
ORGANIZER;CN="Josephine Corcoran":MAILTO:josephinecorcoran13@gmail.com
GEO:51.3197246;-2.2133345
X-APPLE-STRUCTURED-LOCATION;VALUE=URI;X-ADDRESS=Drawing Projects UK Bridge House Trowbridge Wiltshire BA14 9AE United Kingdom;X-APPLE-RADIUS=500;X-TITLE=Bridge House:geo:-2.2133345,51.3197246
END:VEVENT
BEGIN:VEVENT
DTSTART;TZID=Europe/London:20190706T140000
DTEND;TZID=Europe/London:20190706T160000
DTSTAMP:20260422T164338
CREATED:20190425T083313Z
LAST-MODIFIED:20190425T083313Z
UID:10000405-1562421600-1562428800@daretowrite.org
SUMMARY:Trowbridge Stanza
DESCRIPTION:Trowbridge Stanza is a friendly and inclusive poetry group run by writer and Poetry Society member Josephine Corcoran. We meet on the first Saturday of each month\, 2-4pm\, at Drawing Projects UK\, Bridge House\, Trowbridge. Poetry discussions\, Workshopping\, Guest Poets\, Open-mic. £3 per person.
URL:https://daretowrite.org/event/trowbridge-stanza/2019-07-06/
LOCATION:Drawing Projects UK\, Bridge House\, Trowbridge\, Wiltshire\, BA14 9AE\, United Kingdom
CATEGORIES:Creative Club / Course/ Workshop
ORGANIZER;CN="Josephine Corcoran":MAILTO:josephinecorcoran13@gmail.com
GEO:51.3197246;-2.2133345
X-APPLE-STRUCTURED-LOCATION;VALUE=URI;X-ADDRESS=Drawing Projects UK Bridge House Trowbridge Wiltshire BA14 9AE United Kingdom;X-APPLE-RADIUS=500;X-TITLE=Bridge House:geo:-2.2133345,51.3197246
END:VEVENT
BEGIN:VEVENT
DTSTART;TZID=Europe/London:20190601T140000
DTEND;TZID=Europe/London:20190601T160000
DTSTAMP:20260422T164338
CREATED:20190425T083313Z
LAST-MODIFIED:20190425T083313Z
UID:10000404-1559397600-1559404800@daretowrite.org
SUMMARY:Trowbridge Stanza
DESCRIPTION:Trowbridge Stanza is a friendly and inclusive poetry group run by writer and Poetry Society member Josephine Corcoran. We meet on the first Saturday of each month\, 2-4pm\, at Drawing Projects UK\, Bridge House\, Trowbridge. Poetry discussions\, Workshopping\, Guest Poets\, Open-mic. £3 per person.
URL:https://daretowrite.org/event/trowbridge-stanza/2019-06-01/
LOCATION:Drawing Projects UK\, Bridge House\, Trowbridge\, Wiltshire\, BA14 9AE\, United Kingdom
CATEGORIES:Creative Club / Course/ Workshop
ORGANIZER;CN="Josephine Corcoran":MAILTO:josephinecorcoran13@gmail.com
GEO:51.3197246;-2.2133345
X-APPLE-STRUCTURED-LOCATION;VALUE=URI;X-ADDRESS=Drawing Projects UK Bridge House Trowbridge Wiltshire BA14 9AE United Kingdom;X-APPLE-RADIUS=500;X-TITLE=Bridge House:geo:-2.2133345,51.3197246
END:VEVENT
BEGIN:VEVENT
DTSTART;TZID=Europe/London:20190504T140000
DTEND;TZID=Europe/London:20190504T160000
DTSTAMP:20260422T164338
CREATED:20190425T083313Z
LAST-MODIFIED:20190425T083313Z
UID:10000403-1556978400-1556985600@daretowrite.org
SUMMARY:Trowbridge Stanza
DESCRIPTION:Trowbridge Stanza is a friendly and inclusive poetry group run by writer and Poetry Society member Josephine Corcoran. We meet on the first Saturday of each month\, 2-4pm\, at Drawing Projects UK\, Bridge House\, Trowbridge. Poetry discussions\, Workshopping\, Guest Poets\, Open-mic. £3 per person.
URL:https://daretowrite.org/event/trowbridge-stanza/2019-05-04/
LOCATION:Drawing Projects UK\, Bridge House\, Trowbridge\, Wiltshire\, BA14 9AE\, United Kingdom
CATEGORIES:Creative Club / Course/ Workshop
ORGANIZER;CN="Josephine Corcoran":MAILTO:josephinecorcoran13@gmail.com
GEO:51.3197246;-2.2133345
X-APPLE-STRUCTURED-LOCATION;VALUE=URI;X-ADDRESS=Drawing Projects UK Bridge House Trowbridge Wiltshire BA14 9AE United Kingdom;X-APPLE-RADIUS=500;X-TITLE=Bridge House:geo:-2.2133345,51.3197246
END:VEVENT
END:VCALENDAR