BEGIN:VCALENDAR
VERSION:2.0
PRODID:-//Dare to Write? - ECPv6.15.17//NONSGML v1.0//EN
CALSCALE:GREGORIAN
METHOD:PUBLISH
X-WR-CALNAME:Dare to Write?
X-ORIGINAL-URL:https://daretowrite.org
X-WR-CALDESC:Events for Dare to Write?
REFRESH-INTERVAL;VALUE=DURATION:PT1H
X-Robots-Tag:noindex
X-PUBLISHED-TTL:PT1H
BEGIN:VTIMEZONE
TZID:Europe/London
BEGIN:DAYLIGHT
TZOFFSETFROM:+0000
TZOFFSETTO:+0100
TZNAME:BST
DTSTART:20180325T010000
END:DAYLIGHT
BEGIN:STANDARD
TZOFFSETFROM:+0100
TZOFFSETTO:+0000
TZNAME:GMT
DTSTART:20181028T010000
END:STANDARD
BEGIN:DAYLIGHT
TZOFFSETFROM:+0000
TZOFFSETTO:+0100
TZNAME:BST
DTSTART:20190331T010000
END:DAYLIGHT
BEGIN:STANDARD
TZOFFSETFROM:+0100
TZOFFSETTO:+0000
TZNAME:GMT
DTSTART:20191027T010000
END:STANDARD
BEGIN:DAYLIGHT
TZOFFSETFROM:+0000
TZOFFSETTO:+0100
TZNAME:BST
DTSTART:20200329T010000
END:DAYLIGHT
BEGIN:STANDARD
TZOFFSETFROM:+0100
TZOFFSETTO:+0000
TZNAME:GMT
DTSTART:20201025T010000
END:STANDARD
BEGIN:DAYLIGHT
TZOFFSETFROM:+0000
TZOFFSETTO:+0100
TZNAME:BST
DTSTART:20210328T010000
END:DAYLIGHT
BEGIN:STANDARD
TZOFFSETFROM:+0100
TZOFFSETTO:+0000
TZNAME:GMT
DTSTART:20211031T010000
END:STANDARD
END:VTIMEZONE
BEGIN:VEVENT
DTSTART;TZID=Europe/London:20201217T110000
DTEND;TZID=Europe/London:20201217T124500
DTSTAMP:20260422T111400
CREATED:20200305T172935Z
LAST-MODIFIED:20200305T172935Z
UID:10001379-1608202800-1608209100@daretowrite.org
SUMMARY:Adlington Writing Group (Adlington)
DESCRIPTION:Perhaps you’re a published novelist? Whether you are a complete beginner or an established writer\, we invite you to join our writers group at Adlington Library.\nWriting projects are set at every meeting but these are not compulsory and above all\, we encourage creativity. You are also welcome to simply come along and listen if you wish.\nWe meet every 3rd Thursday 11am to 12.45pm.\nThis event is free\, no ticket required.
URL:https://daretowrite.org/event/adlington-writing-group-adlington/2020-12-17/
LOCATION:Adlington Library\, \, Railway Road\, Adlington\, Chorley\, Lancashire\, PR6 9RG
CATEGORIES:Creative Club / Course/ Workshop
ORGANIZER;CN="Adlington Library":MAILTO:adlington.library@lancashire.gov.uk
GEO:53.6139152;-2.6025283
X-APPLE-STRUCTURED-LOCATION;VALUE=URI;X-ADDRESS=Adlington Library  Railway Road Adlington Chorley Lancashire PR6 9RG;X-APPLE-RADIUS=500;X-TITLE=\, Railway Road:geo:-2.6025283,53.6139152
END:VEVENT
BEGIN:VEVENT
DTSTART;TZID=Europe/London:20201119T110000
DTEND;TZID=Europe/London:20201119T124500
DTSTAMP:20260422T111400
CREATED:20200305T172935Z
LAST-MODIFIED:20200305T172935Z
UID:10001378-1605783600-1605789900@daretowrite.org
SUMMARY:Adlington Writing Group (Adlington)
DESCRIPTION:Perhaps you’re a published novelist? Whether you are a complete beginner or an established writer\, we invite you to join our writers group at Adlington Library.\nWriting projects are set at every meeting but these are not compulsory and above all\, we encourage creativity. You are also welcome to simply come along and listen if you wish.\nWe meet every 3rd Thursday 11am to 12.45pm.\nThis event is free\, no ticket required.
URL:https://daretowrite.org/event/adlington-writing-group-adlington/2020-11-19/
LOCATION:Adlington Library\, \, Railway Road\, Adlington\, Chorley\, Lancashire\, PR6 9RG
CATEGORIES:Creative Club / Course/ Workshop
ORGANIZER;CN="Adlington Library":MAILTO:adlington.library@lancashire.gov.uk
GEO:53.6139152;-2.6025283
X-APPLE-STRUCTURED-LOCATION;VALUE=URI;X-ADDRESS=Adlington Library  Railway Road Adlington Chorley Lancashire PR6 9RG;X-APPLE-RADIUS=500;X-TITLE=\, Railway Road:geo:-2.6025283,53.6139152
END:VEVENT
BEGIN:VEVENT
DTSTART;TZID=Europe/London:20201015T110000
DTEND;TZID=Europe/London:20201015T124500
DTSTAMP:20260422T111400
CREATED:20200305T172935Z
LAST-MODIFIED:20200305T172935Z
UID:10001377-1602759600-1602765900@daretowrite.org
SUMMARY:Adlington Writing Group (Adlington)
DESCRIPTION:Perhaps you’re a published novelist? Whether you are a complete beginner or an established writer\, we invite you to join our writers group at Adlington Library.\nWriting projects are set at every meeting but these are not compulsory and above all\, we encourage creativity. You are also welcome to simply come along and listen if you wish.\nWe meet every 3rd Thursday 11am to 12.45pm.\nThis event is free\, no ticket required.
URL:https://daretowrite.org/event/adlington-writing-group-adlington/2020-10-15/
LOCATION:Adlington Library\, \, Railway Road\, Adlington\, Chorley\, Lancashire\, PR6 9RG
CATEGORIES:Creative Club / Course/ Workshop
ORGANIZER;CN="Adlington Library":MAILTO:adlington.library@lancashire.gov.uk
GEO:53.6139152;-2.6025283
X-APPLE-STRUCTURED-LOCATION;VALUE=URI;X-ADDRESS=Adlington Library  Railway Road Adlington Chorley Lancashire PR6 9RG;X-APPLE-RADIUS=500;X-TITLE=\, Railway Road:geo:-2.6025283,53.6139152
END:VEVENT
BEGIN:VEVENT
DTSTART;TZID=Europe/London:20200917T110000
DTEND;TZID=Europe/London:20200917T124500
DTSTAMP:20260422T111400
CREATED:20200305T172935Z
LAST-MODIFIED:20200305T172935Z
UID:10001376-1600340400-1600346700@daretowrite.org
SUMMARY:Adlington Writing Group (Adlington)
DESCRIPTION:Perhaps you’re a published novelist? Whether you are a complete beginner or an established writer\, we invite you to join our writers group at Adlington Library.\nWriting projects are set at every meeting but these are not compulsory and above all\, we encourage creativity. You are also welcome to simply come along and listen if you wish.\nWe meet every 3rd Thursday 11am to 12.45pm.\nThis event is free\, no ticket required.
URL:https://daretowrite.org/event/adlington-writing-group-adlington/2020-09-17/
LOCATION:Adlington Library\, \, Railway Road\, Adlington\, Chorley\, Lancashire\, PR6 9RG
CATEGORIES:Creative Club / Course/ Workshop
ORGANIZER;CN="Adlington Library":MAILTO:adlington.library@lancashire.gov.uk
GEO:53.6139152;-2.6025283
X-APPLE-STRUCTURED-LOCATION;VALUE=URI;X-ADDRESS=Adlington Library  Railway Road Adlington Chorley Lancashire PR6 9RG;X-APPLE-RADIUS=500;X-TITLE=\, Railway Road:geo:-2.6025283,53.6139152
END:VEVENT
BEGIN:VEVENT
DTSTART;TZID=Europe/London:20200820T110000
DTEND;TZID=Europe/London:20200820T124500
DTSTAMP:20260422T111400
CREATED:20200305T172935Z
LAST-MODIFIED:20200305T172935Z
UID:10001375-1597921200-1597927500@daretowrite.org
SUMMARY:Adlington Writing Group (Adlington)
DESCRIPTION:Perhaps you’re a published novelist? Whether you are a complete beginner or an established writer\, we invite you to join our writers group at Adlington Library.\nWriting projects are set at every meeting but these are not compulsory and above all\, we encourage creativity. You are also welcome to simply come along and listen if you wish.\nWe meet every 3rd Thursday 11am to 12.45pm.\nThis event is free\, no ticket required.
URL:https://daretowrite.org/event/adlington-writing-group-adlington/2020-08-20/
LOCATION:Adlington Library\, \, Railway Road\, Adlington\, Chorley\, Lancashire\, PR6 9RG
CATEGORIES:Creative Club / Course/ Workshop
ORGANIZER;CN="Adlington Library":MAILTO:adlington.library@lancashire.gov.uk
GEO:53.6139152;-2.6025283
X-APPLE-STRUCTURED-LOCATION;VALUE=URI;X-ADDRESS=Adlington Library  Railway Road Adlington Chorley Lancashire PR6 9RG;X-APPLE-RADIUS=500;X-TITLE=\, Railway Road:geo:-2.6025283,53.6139152
END:VEVENT
BEGIN:VEVENT
DTSTART;TZID=Europe/London:20200716T110000
DTEND;TZID=Europe/London:20200716T124500
DTSTAMP:20260422T111401
CREATED:20200305T172935Z
LAST-MODIFIED:20200305T172935Z
UID:10001374-1594897200-1594903500@daretowrite.org
SUMMARY:Adlington Writing Group (Adlington)
DESCRIPTION:Perhaps you’re a published novelist? Whether you are a complete beginner or an established writer\, we invite you to join our writers group at Adlington Library.\nWriting projects are set at every meeting but these are not compulsory and above all\, we encourage creativity. You are also welcome to simply come along and listen if you wish.\nWe meet every 3rd Thursday 11am to 12.45pm.\nThis event is free\, no ticket required.
URL:https://daretowrite.org/event/adlington-writing-group-adlington/2020-07-16/
LOCATION:Adlington Library\, \, Railway Road\, Adlington\, Chorley\, Lancashire\, PR6 9RG
CATEGORIES:Creative Club / Course/ Workshop
ORGANIZER;CN="Adlington Library":MAILTO:adlington.library@lancashire.gov.uk
GEO:53.6139152;-2.6025283
X-APPLE-STRUCTURED-LOCATION;VALUE=URI;X-ADDRESS=Adlington Library  Railway Road Adlington Chorley Lancashire PR6 9RG;X-APPLE-RADIUS=500;X-TITLE=\, Railway Road:geo:-2.6025283,53.6139152
END:VEVENT
BEGIN:VEVENT
DTSTART;TZID=Europe/London:20200618T110000
DTEND;TZID=Europe/London:20200618T124500
DTSTAMP:20260422T111401
CREATED:20200305T172935Z
LAST-MODIFIED:20200305T172935Z
UID:10001373-1592478000-1592484300@daretowrite.org
SUMMARY:Adlington Writing Group (Adlington)
DESCRIPTION:Perhaps you’re a published novelist? Whether you are a complete beginner or an established writer\, we invite you to join our writers group at Adlington Library.\nWriting projects are set at every meeting but these are not compulsory and above all\, we encourage creativity. You are also welcome to simply come along and listen if you wish.\nWe meet every 3rd Thursday 11am to 12.45pm.\nThis event is free\, no ticket required.
URL:https://daretowrite.org/event/adlington-writing-group-adlington/2020-06-18/
LOCATION:Adlington Library\, \, Railway Road\, Adlington\, Chorley\, Lancashire\, PR6 9RG
CATEGORIES:Creative Club / Course/ Workshop
ORGANIZER;CN="Adlington Library":MAILTO:adlington.library@lancashire.gov.uk
GEO:53.6139152;-2.6025283
X-APPLE-STRUCTURED-LOCATION;VALUE=URI;X-ADDRESS=Adlington Library  Railway Road Adlington Chorley Lancashire PR6 9RG;X-APPLE-RADIUS=500;X-TITLE=\, Railway Road:geo:-2.6025283,53.6139152
END:VEVENT
BEGIN:VEVENT
DTSTART;TZID=Europe/London:20200521T110000
DTEND;TZID=Europe/London:20200521T124500
DTSTAMP:20260422T111401
CREATED:20200305T172935Z
LAST-MODIFIED:20200305T172935Z
UID:10001372-1590058800-1590065100@daretowrite.org
SUMMARY:Adlington Writing Group (Adlington)
DESCRIPTION:Perhaps you’re a published novelist? Whether you are a complete beginner or an established writer\, we invite you to join our writers group at Adlington Library.\nWriting projects are set at every meeting but these are not compulsory and above all\, we encourage creativity. You are also welcome to simply come along and listen if you wish.\nWe meet every 3rd Thursday 11am to 12.45pm.\nThis event is free\, no ticket required.
URL:https://daretowrite.org/event/adlington-writing-group-adlington/2020-05-21/
LOCATION:Adlington Library\, \, Railway Road\, Adlington\, Chorley\, Lancashire\, PR6 9RG
CATEGORIES:Creative Club / Course/ Workshop
ORGANIZER;CN="Adlington Library":MAILTO:adlington.library@lancashire.gov.uk
GEO:53.6139152;-2.6025283
X-APPLE-STRUCTURED-LOCATION;VALUE=URI;X-ADDRESS=Adlington Library  Railway Road Adlington Chorley Lancashire PR6 9RG;X-APPLE-RADIUS=500;X-TITLE=\, Railway Road:geo:-2.6025283,53.6139152
END:VEVENT
BEGIN:VEVENT
DTSTART;TZID=Europe/London:20200416T110000
DTEND;TZID=Europe/London:20200416T124500
DTSTAMP:20260422T111401
CREATED:20200305T172935Z
LAST-MODIFIED:20200305T172935Z
UID:10001371-1587034800-1587041100@daretowrite.org
SUMMARY:Adlington Writing Group (Adlington)
DESCRIPTION:Perhaps you’re a published novelist? Whether you are a complete beginner or an established writer\, we invite you to join our writers group at Adlington Library.\nWriting projects are set at every meeting but these are not compulsory and above all\, we encourage creativity. You are also welcome to simply come along and listen if you wish.\nWe meet every 3rd Thursday 11am to 12.45pm.\nThis event is free\, no ticket required.
URL:https://daretowrite.org/event/adlington-writing-group-adlington/2020-04-16/
LOCATION:Adlington Library\, \, Railway Road\, Adlington\, Chorley\, Lancashire\, PR6 9RG
CATEGORIES:Creative Club / Course/ Workshop
ORGANIZER;CN="Adlington Library":MAILTO:adlington.library@lancashire.gov.uk
GEO:53.6139152;-2.6025283
X-APPLE-STRUCTURED-LOCATION;VALUE=URI;X-ADDRESS=Adlington Library  Railway Road Adlington Chorley Lancashire PR6 9RG;X-APPLE-RADIUS=500;X-TITLE=\, Railway Road:geo:-2.6025283,53.6139152
END:VEVENT
BEGIN:VEVENT
DTSTART;TZID=Europe/London:20200319T110000
DTEND;TZID=Europe/London:20200319T124500
DTSTAMP:20260422T111401
CREATED:20200305T172935Z
LAST-MODIFIED:20200305T172935Z
UID:10001370-1584615600-1584621900@daretowrite.org
SUMMARY:Adlington Writing Group (Adlington)
DESCRIPTION:Perhaps you’re a published novelist? Whether you are a complete beginner or an established writer\, we invite you to join our writers group at Adlington Library.\nWriting projects are set at every meeting but these are not compulsory and above all\, we encourage creativity. You are also welcome to simply come along and listen if you wish.\nWe meet every 3rd Thursday 11am to 12.45pm.\nThis event is free\, no ticket required.
URL:https://daretowrite.org/event/adlington-writing-group-adlington/2020-03-19/
LOCATION:Adlington Library\, \, Railway Road\, Adlington\, Chorley\, Lancashire\, PR6 9RG
CATEGORIES:Creative Club / Course/ Workshop
ORGANIZER;CN="Adlington Library":MAILTO:adlington.library@lancashire.gov.uk
GEO:53.6139152;-2.6025283
X-APPLE-STRUCTURED-LOCATION;VALUE=URI;X-ADDRESS=Adlington Library  Railway Road Adlington Chorley Lancashire PR6 9RG;X-APPLE-RADIUS=500;X-TITLE=\, Railway Road:geo:-2.6025283,53.6139152
END:VEVENT
BEGIN:VEVENT
DTSTART;TZID=Europe/London:20191220T100000
DTEND;TZID=Europe/London:20191220T120000
DTSTAMP:20260422T111401
CREATED:20190808T111048Z
LAST-MODIFIED:20190808T111048Z
UID:10000968-1576836000-1576843200@daretowrite.org
SUMMARY:Adlington Writing Group
DESCRIPTION:Perhaps you’re a published novelist? Whether you are a complete beginner or an established writer\, we invite you to join our writers group at Adlington Library. \nWriting projects are set at every meeting but these are not compulsory and above all\, we encourage creativity. You are also welcome to simply come along and listen if you wish.
URL:https://daretowrite.org/event/adlington-writing-group/2019-12-20/
LOCATION:Adlington Library\, \, Railway Road\, Adlington\, Chorley\, Lancashire\, PR6 9RG
CATEGORIES:Creative Club / Course/ Workshop
ORGANIZER;CN="Adlington Library":MAILTO:adlington.library@lancashire.gov.uk
GEO:53.6139152;-2.6025283
X-APPLE-STRUCTURED-LOCATION;VALUE=URI;X-ADDRESS=Adlington Library  Railway Road Adlington Chorley Lancashire PR6 9RG;X-APPLE-RADIUS=500;X-TITLE=\, Railway Road:geo:-2.6025283,53.6139152
END:VEVENT
BEGIN:VEVENT
DTSTART;TZID=Europe/London:20191115T100000
DTEND;TZID=Europe/London:20191115T120000
DTSTAMP:20260422T111401
CREATED:20190808T111048Z
LAST-MODIFIED:20190808T111048Z
UID:10000967-1573812000-1573819200@daretowrite.org
SUMMARY:Adlington Writing Group
DESCRIPTION:Perhaps you’re a published novelist? Whether you are a complete beginner or an established writer\, we invite you to join our writers group at Adlington Library. \nWriting projects are set at every meeting but these are not compulsory and above all\, we encourage creativity. You are also welcome to simply come along and listen if you wish.
URL:https://daretowrite.org/event/adlington-writing-group/2019-11-15/
LOCATION:Adlington Library\, \, Railway Road\, Adlington\, Chorley\, Lancashire\, PR6 9RG
CATEGORIES:Creative Club / Course/ Workshop
ORGANIZER;CN="Adlington Library":MAILTO:adlington.library@lancashire.gov.uk
GEO:53.6139152;-2.6025283
X-APPLE-STRUCTURED-LOCATION;VALUE=URI;X-ADDRESS=Adlington Library  Railway Road Adlington Chorley Lancashire PR6 9RG;X-APPLE-RADIUS=500;X-TITLE=\, Railway Road:geo:-2.6025283,53.6139152
END:VEVENT
BEGIN:VEVENT
DTSTART;TZID=Europe/London:20191018T100000
DTEND;TZID=Europe/London:20191018T120000
DTSTAMP:20260422T111401
CREATED:20190808T111048Z
LAST-MODIFIED:20190808T111048Z
UID:10000966-1571392800-1571400000@daretowrite.org
SUMMARY:Adlington Writing Group
DESCRIPTION:Perhaps you’re a published novelist? Whether you are a complete beginner or an established writer\, we invite you to join our writers group at Adlington Library. \nWriting projects are set at every meeting but these are not compulsory and above all\, we encourage creativity. You are also welcome to simply come along and listen if you wish.
URL:https://daretowrite.org/event/adlington-writing-group/2019-10-18/
LOCATION:Adlington Library\, \, Railway Road\, Adlington\, Chorley\, Lancashire\, PR6 9RG
CATEGORIES:Creative Club / Course/ Workshop
ORGANIZER;CN="Adlington Library":MAILTO:adlington.library@lancashire.gov.uk
GEO:53.6139152;-2.6025283
X-APPLE-STRUCTURED-LOCATION;VALUE=URI;X-ADDRESS=Adlington Library  Railway Road Adlington Chorley Lancashire PR6 9RG;X-APPLE-RADIUS=500;X-TITLE=\, Railway Road:geo:-2.6025283,53.6139152
END:VEVENT
BEGIN:VEVENT
DTSTART;TZID=Europe/London:20190920T100000
DTEND;TZID=Europe/London:20190920T120000
DTSTAMP:20260422T111401
CREATED:20190808T111048Z
LAST-MODIFIED:20190808T111048Z
UID:10000965-1568973600-1568980800@daretowrite.org
SUMMARY:Adlington Writing Group
DESCRIPTION:Perhaps you’re a published novelist? Whether you are a complete beginner or an established writer\, we invite you to join our writers group at Adlington Library. \nWriting projects are set at every meeting but these are not compulsory and above all\, we encourage creativity. You are also welcome to simply come along and listen if you wish.
URL:https://daretowrite.org/event/adlington-writing-group/2019-09-20/
LOCATION:Adlington Library\, \, Railway Road\, Adlington\, Chorley\, Lancashire\, PR6 9RG
CATEGORIES:Creative Club / Course/ Workshop
ORGANIZER;CN="Adlington Library":MAILTO:adlington.library@lancashire.gov.uk
GEO:53.6139152;-2.6025283
X-APPLE-STRUCTURED-LOCATION;VALUE=URI;X-ADDRESS=Adlington Library  Railway Road Adlington Chorley Lancashire PR6 9RG;X-APPLE-RADIUS=500;X-TITLE=\, Railway Road:geo:-2.6025283,53.6139152
END:VEVENT
BEGIN:VEVENT
DTSTART;TZID=Europe/London:20190816T100000
DTEND;TZID=Europe/London:20190816T120000
DTSTAMP:20260422T111401
CREATED:20190808T111048Z
LAST-MODIFIED:20190808T111048Z
UID:10000964-1565949600-1565956800@daretowrite.org
SUMMARY:Adlington Writing Group
DESCRIPTION:Perhaps you’re a published novelist? Whether you are a complete beginner or an established writer\, we invite you to join our writers group at Adlington Library. \nWriting projects are set at every meeting but these are not compulsory and above all\, we encourage creativity. You are also welcome to simply come along and listen if you wish.
URL:https://daretowrite.org/event/adlington-writing-group/2019-08-16/
LOCATION:Adlington Library\, \, Railway Road\, Adlington\, Chorley\, Lancashire\, PR6 9RG
CATEGORIES:Creative Club / Course/ Workshop
ORGANIZER;CN="Adlington Library":MAILTO:adlington.library@lancashire.gov.uk
GEO:53.6139152;-2.6025283
X-APPLE-STRUCTURED-LOCATION;VALUE=URI;X-ADDRESS=Adlington Library  Railway Road Adlington Chorley Lancashire PR6 9RG;X-APPLE-RADIUS=500;X-TITLE=\, Railway Road:geo:-2.6025283,53.6139152
END:VEVENT
BEGIN:VEVENT
DTSTART;TZID=Europe/London:20190621T100000
DTEND;TZID=Europe/London:20190621T120000
DTSTAMP:20260422T111401
CREATED:20190418T152620Z
LAST-MODIFIED:20190425T141751Z
UID:10000352-1561111200-1561118400@daretowrite.org
SUMMARY:Monthly Creative Writing Workshop
DESCRIPTION:at Adlington Library every month \nPerhaps you’re a published novelist? Whether you are a complete beginner or an established writer\, we invite you to join our writers group at Adlington Library.\nWriting projects are set at every meeting but these are not compulsory and above all\, we encourage creativity. You are also welcome to simply come along and listen if you wish. \nThis event is free\, no ticket required.
URL:https://daretowrite.org/event/monthly-creative-writing-workshop-4/2019-06-21/
CATEGORIES:Creative Club / Course/ Workshop
END:VEVENT
BEGIN:VEVENT
DTSTART;TZID=Europe/London:20190517T100000
DTEND;TZID=Europe/London:20190517T120000
DTSTAMP:20260422T111401
CREATED:20190418T152620Z
LAST-MODIFIED:20190425T141751Z
UID:10000351-1558087200-1558094400@daretowrite.org
SUMMARY:Monthly Creative Writing Workshop
DESCRIPTION:at Adlington Library every month \nPerhaps you’re a published novelist? Whether you are a complete beginner or an established writer\, we invite you to join our writers group at Adlington Library.\nWriting projects are set at every meeting but these are not compulsory and above all\, we encourage creativity. You are also welcome to simply come along and listen if you wish. \nThis event is free\, no ticket required.
URL:https://daretowrite.org/event/monthly-creative-writing-workshop-4/2019-05-17/
CATEGORIES:Creative Club / Course/ Workshop
END:VEVENT
END:VCALENDAR